BEGIN:VCALENDAR
VERSION:2.0
PRODID:-//Grid Magazine - ECPv6.15.20//NONSGML v1.0//EN
CALSCALE:GREGORIAN
METHOD:PUBLISH
X-WR-CALNAME:Grid Magazine
X-ORIGINAL-URL:https://gridphilly.com
X-WR-CALDESC:Events for Grid Magazine
REFRESH-INTERVAL;VALUE=DURATION:PT1H
X-Robots-Tag:noindex
X-PUBLISHED-TTL:PT1H
BEGIN:VTIMEZONE
TZID:America/New_York
BEGIN:DAYLIGHT
TZOFFSETFROM:-0500
TZOFFSETTO:-0400
TZNAME:EDT
DTSTART:20240310T070000
END:DAYLIGHT
BEGIN:STANDARD
TZOFFSETFROM:-0400
TZOFFSETTO:-0500
TZNAME:EST
DTSTART:20241103T060000
END:STANDARD
BEGIN:DAYLIGHT
TZOFFSETFROM:-0500
TZOFFSETTO:-0400
TZNAME:EDT
DTSTART:20250309T070000
END:DAYLIGHT
BEGIN:STANDARD
TZOFFSETFROM:-0400
TZOFFSETTO:-0500
TZNAME:EST
DTSTART:20251102T060000
END:STANDARD
BEGIN:DAYLIGHT
TZOFFSETFROM:-0500
TZOFFSETTO:-0400
TZNAME:EDT
DTSTART:20260308T070000
END:DAYLIGHT
BEGIN:STANDARD
TZOFFSETFROM:-0400
TZOFFSETTO:-0500
TZNAME:EST
DTSTART:20261101T060000
END:STANDARD
END:VTIMEZONE
BEGIN:VEVENT
DTSTART;TZID=America/New_York:20250820T193000
DTEND;TZID=America/New_York:20250820T210000
DTSTAMP:20260422T055222
CREATED:20250710T200634Z
LAST-MODIFIED:20250725T185539Z
UID:10019894-1755718200-1755723600@gridphilly.com
SUMMARY:Nature at Night: Members-Only Family Movie Night — "The Wild Robot"
DESCRIPTION:One of the many perks of Tyler membership is FREE admission to special family-friendly events like our second annual Family Movie Night.\nBring the family\, beach chairs\, snacks\, and drinks for this fun movie-watching event in Acer Field!\nWe’re screening 2024’s “The Wild Robot\,” a PG-rated animated film featuring the voices of Lupita Nyong’o and Pedro Pascal. The film follows an intelligent robot called Roz who becomes stranded on an uninhabited island. To survive the harsh environment\, Roz bonds with the island’s animals and cares for an orphaned baby goose.\nLimited space is available so tickets must be reserved in advance. Remember\, this FREE event is just for members; guests are permitted with your guest passes. Not a member yet? Get your membership now and bring the family out for a memorable summer evening!\nREGISTER HERE
URL:https://gridphilly.com/event/nature-at-night-members-only-family-movie-night-the-wild-robot/
CATEGORIES:Members Only Events
ATTACH;FMTTYPE=image/png:https://gridphilly.com/wp-content/uploads/2025/07/FamilyMovieNight-ho2QsH.png
ORGANIZER;CN="Joanne Landau":MAILTO:jlandau@tylerarboretum.org
END:VEVENT
BEGIN:VEVENT
DTSTART;TZID=America/New_York:20250730T180000
DTEND;TZID=America/New_York:20250730T200000
DTSTAMP:20260422T055222
CREATED:20250627T195447Z
LAST-MODIFIED:20250710T194819Z
UID:10019661-1753898400-1753905600@gridphilly.com
SUMMARY:Nature at Night: Members-Only Ride\, Roll & Stroll
DESCRIPTION:One of the many perks of Tyler membership is FREE admission to special family-friendly events like our Members-Only Ride\, Roll & Stroll.\nAfter the Arboretum closes to visitors\, we open the gates for our members … and their wheels! During this special event\, members can ride the Scenic Loop on their bikes\, scooters\, or other human-powered wheels. Of course\, it’s also the perfect time to take a stroll during the cooler evening hours!\nThis event is FREE to members and there is no pre-registration. Guests are permitted with your guest passes. Not a member yet? Get your membership now and bring the family out for a memorable summer evening!
URL:https://gridphilly.com/event/nature-at-night-members-only-ride-roll-stroll/
LOCATION:Tyler Arboretum\, 515 Painter Rd\, Media\, PA\, United States
CATEGORIES:Members Only Events
ATTACH;FMTTYPE=image/png:https://gridphilly.com/wp-content/uploads/2025/06/Event-Images-1-Yi87J3.png
ORGANIZER;CN="Joanne Landau":MAILTO:jlandau@tylerarboretum.org
GEO:39.933346;-75.440244
X-APPLE-STRUCTURED-LOCATION;VALUE=URI;X-ADDRESS=Tyler Arboretum 515 Painter Rd Media PA United States;X-APPLE-RADIUS=500;X-TITLE=515 Painter Rd:geo:-75.440244,39.933346
END:VEVENT
END:VCALENDAR