BEGIN:VCALENDAR
VERSION:2.0
PRODID:-//Grid Magazine - ECPv6.15.20//NONSGML v1.0//EN
CALSCALE:GREGORIAN
METHOD:PUBLISH
X-ORIGINAL-URL:https://gridphilly.com
X-WR-CALDESC:Events for Grid Magazine
REFRESH-INTERVAL;VALUE=DURATION:PT1H
X-Robots-Tag:noindex
X-PUBLISHED-TTL:PT1H
BEGIN:VTIMEZONE
TZID:America/New_York
BEGIN:DAYLIGHT
TZOFFSETFROM:-0500
TZOFFSETTO:-0400
TZNAME:EDT
DTSTART:20220313T070000
END:DAYLIGHT
BEGIN:STANDARD
TZOFFSETFROM:-0400
TZOFFSETTO:-0500
TZNAME:EST
DTSTART:20221106T060000
END:STANDARD
BEGIN:DAYLIGHT
TZOFFSETFROM:-0500
TZOFFSETTO:-0400
TZNAME:EDT
DTSTART:20230312T070000
END:DAYLIGHT
BEGIN:STANDARD
TZOFFSETFROM:-0400
TZOFFSETTO:-0500
TZNAME:EST
DTSTART:20231105T060000
END:STANDARD
BEGIN:DAYLIGHT
TZOFFSETFROM:-0500
TZOFFSETTO:-0400
TZNAME:EDT
DTSTART:20240310T070000
END:DAYLIGHT
BEGIN:STANDARD
TZOFFSETFROM:-0400
TZOFFSETTO:-0500
TZNAME:EST
DTSTART:20241103T060000
END:STANDARD
BEGIN:DAYLIGHT
TZOFFSETFROM:-0500
TZOFFSETTO:-0400
TZNAME:EDT
DTSTART:20250309T070000
END:DAYLIGHT
BEGIN:STANDARD
TZOFFSETFROM:-0400
TZOFFSETTO:-0500
TZNAME:EST
DTSTART:20251102T060000
END:STANDARD
BEGIN:DAYLIGHT
TZOFFSETFROM:-0500
TZOFFSETTO:-0400
TZNAME:EDT
DTSTART:20260308T070000
END:DAYLIGHT
BEGIN:STANDARD
TZOFFSETFROM:-0400
TZOFFSETTO:-0500
TZNAME:EST
DTSTART:20261101T060000
END:STANDARD
END:VTIMEZONE
BEGIN:VEVENT
DTSTART;TZID=America/New_York:20250906T080000
DTEND;TZID=America/New_York:20250906T140000
DTSTAMP:20260422T055247
CREATED:20250818T135434Z
LAST-MODIFIED:20250818T135434Z
UID:10020431-1757145600-1757167200@gridphilly.com
SUMMARY:The Big Paddle: Two Cities\, One River
DESCRIPTION:Riverways Collaboration and the Philadelphia Ship Preservation Guild will co-host The Big Paddle: Two Cities\, One River on Saturday\, September 6\, 2025\, from 7:30 AM to 2:00 PM\, with a rain date of Sunday\, September 21. This 10-mile paddle up the Delaware River will start at Pyne Poynt Park in Camden\, New Jersey\, and finish at Pleasant Hill Park in Philadelphia\, Pennsylvania. The event celebrates the region’s shared love of the river while promoting more recreational opportunities in urban natural areas. \nThe Big Paddle welcomes kayakers and canoers looking for both adventure and community connection. Rest stops and on-water support will be provided along the route\, and the day will conclude with a celebration at Pleasant Hill Park. Participants can bring their own kayak\, rent one\, or join a crew aboard 9-person voyager canoes for a unique group experience.
URL:https://gridphilly.com/event/the-big-paddle-two-cities-one-river/
LOCATION:Pleasant Hill Park\, 8900 N. Delaware Avenue\, Philadelphia\, PA\, United States
CATEGORIES:Kayak,Nature & Community Science,Water,Watershed
ATTACH;FMTTYPE=image/jpeg:https://gridphilly.com/wp-content/uploads/2025/08/20230731_134507-1-scaled.jpg
ORGANIZER;CN="Riverways Collaboration":MAILTO:admin@riverways.org
END:VEVENT
BEGIN:VEVENT
DTSTART;TZID=America/New_York:20250813T183000
DTEND;TZID=America/New_York:20250813T201500
DTSTAMP:20260422T055247
CREATED:20250805T171305Z
LAST-MODIFIED:20250805T171305Z
UID:10020309-1755109800-1755116100@gridphilly.com
SUMMARY:Sunset on the Schuylkill: Guided Kayak Tour
DESCRIPTION:Enjoy beautiful views of the city skyline and setting sunset with a guided kayak tour on the Schuylkill River!\n\nDATE\nWednesday\, August 13 \n\n\n\nTIME\n6:30 pm – 8:15 pm \n\n\n\nLOCATION\nWalnut Street Dock \nPhiladelphia PA 19103 \n\n\n\nJoin Fairmount Park Conservancy and Hidden River Outfitters for a picturesque two-mile guided kayak tour on the Schuylkill River. \nThe tour departs from the Walnut Street dock along the Schuylkill River Trail and heads upriver to the Fairmount Water Works\, where you’ll experience a rarely-seen perspective of these historic structures from the water below. Learn interesting facts about the history of the park while enjoying spectacular views of the city skyline at sunset. \nNo gear or kayaking experience necessary — kayaking equipment and instruction provided. \nINSTRUCTOR BIO: Jason Mifflin has owned and operated Hidden River Outfitters since June 2010. From homemade rafts to sea kayaks\, Jason loves to be on the water in anything that floats. He spent much of his life paddling a canoe until he discovered kayaking about fourteen years ago. He appreciates both whitewater and flatwater kayaking for their respective exhilarating and relaxing qualities. Jason enjoys sharing his passion for being outdoors with others and reconnecting people with the rivers they often appreciate but never experience. Jason loves to get folks out on the water\, regardless of their experience\, and expose them to paddling. Also\, as a native of Philadelphia\, he enjoys recounting the history and function of many of the areas that we encounter on our tours. \nTICKET PRICE: $45 \n\n\nKNOW BEFORE YOU GO: \n\nAll attendees must sign a waiver (provided by Hidden River) in order to participate. This waiver will be emailed so please try to sign it before you arrive.\nParental consent is required for those 18 years and under. Not recommended for those under 12.\nThe kayak is roughly two miles roundtrip (moderate exertion).\nPlease dress according to weather conditions.\nBring your own water and snack (drinking water is not available in the park).\nUnfortunately\, there are no bathrooms nearby so please plan accordingly.\nBring bug spray and sunscreen.\nAll tours begin with a brief safety talk and an on-shore kayaking lesson.\nThere will be a spot to lock up belongings (backpacks\, cell phones\, etc.) during the kayak tour.\nThere are only single-person kayaks available for the tour.\nThese kayaking events have a limited capacity. Tickets are not refundable or transferrable within two weeks of the event.\nImportant pre-event information and any event updates are sent out via email. Please make sure the email address entered is correct and that you check it before coming out to the event.\n\n\nPARKING/GETTING THERE: There is paid street parking nearby. As always\, NEVER leave valuables in your car! If traveling by public transit\, there are bus stops located at Market Street and Schuylkill Ave\, Schuylkill Ave and JFK Blvd\, and 23rd Street and Market – all a little over a 1/4-mile walk. The nearest Indego bike station is at 120 South 24th Street. \n\nQUESTIONS? Please reach out to programs@myphillypark.org \n 
URL:https://gridphilly.com/event/sunset-on-the-schuylkill-guided-kayak-tour-3/
LOCATION:Walnut Street Dock
CATEGORIES:Kayak
ATTACH;FMTTYPE=image/png:https://gridphilly.com/wp-content/uploads/2025/08/Kayak-Water-Works-View-2-400x400-2-3.png
END:VEVENT
BEGIN:VEVENT
DTSTART;TZID=America/New_York:20250629T100000
DTEND;TZID=America/New_York:20250629T160000
DTSTAMP:20260422T055247
CREATED:20250623T165028Z
LAST-MODIFIED:20250623T165028Z
UID:10019512-1751191200-1751212800@gridphilly.com
SUMMARY:Canoe Club Open House
DESCRIPTION:The Philadelphia Canoe Club is hosting our Annual Open House on June 29th from 10 am to 4 pm. There will be live music\, boating in canoes and kayaks on Wissahickon Creek\, food\, drinks\, and a used gear sale. All equipment is provided and experienced boaters will be there to support your paddling experience. Gear sale includes boats which you can try before you buy as well al lots of great outdoor clothing and gear.. Please join us at the historic old mill clubhouse to help celebrate our 120th Anniversary at the confluence of the Wissahickon Creek for a day of fun and community. Enjoy live folk music featuring the Schist Creak Stompers and singer songwriter Zach Weagley- 4900 Ridge Ave -along the Schuylkill River Trail\, follow the driveway behind the Wissahickon Transportation Center to join the festivities.
URL:https://gridphilly.com/event/canoe-club-open-house/
LOCATION:Philadelphia Canoe Club\, 4900 Ridge Ave\, Philadelphia\, PA\, 19127
CATEGORIES:Boating,Kayak
ATTACH;FMTTYPE=image/jpeg:https://gridphilly.com/wp-content/uploads/2025/06/068F0EAF-F28D-4D36-B890-0A195A8AF46F-scaled.jpg
ORGANIZER;CN="Philadelphia Canoe Club":MAILTO:social@philacanoe.org
END:VEVENT
BEGIN:VEVENT
DTSTART;TZID=America/New_York:20250607T091500
DTEND;TZID=America/New_York:20250607T150000
DTSTAMP:20260422T055247
CREATED:20250513T173358Z
LAST-MODIFIED:20250513T173358Z
UID:10018866-1749287700-1749308400@gridphilly.com
SUMMARY:Across the Delaware: Journey to Amico Island
DESCRIPTION:Gear up for an exciting guided kayak trip across the Delaware River. Our destination: Amico Island in New Jersey. This is a unique opportunity as our usual tours remain on the PA side of the river. \nOnce we arrive on the Island\, you’ll have the freedom to explore at your own pace—stroll along the nature trails\, relax on the beach or paddle around the island’s peaceful coves. \nGlen Foerd will provide lunch to keep you fueled for the adventure.
URL:https://gridphilly.com/event/across-the-delaware-journey-to-amico-island-2/
LOCATION:Glen Foerd\, 5001 Grant Avenue\, Philadelphia\, PA\, 19114\, United States
CATEGORIES:Kayak
ATTACH;FMTTYPE=image/jpeg:https://gridphilly.com/wp-content/uploads/2025/05/IMG_5381.jpg
GEO:40.051718;-74.981477
X-APPLE-STRUCTURED-LOCATION;VALUE=URI;X-ADDRESS=Glen Foerd 5001 Grant Avenue Philadelphia PA 19114 United States;X-APPLE-RADIUS=500;X-TITLE=5001 Grant Avenue:geo:-74.981477,40.051718
END:VEVENT
BEGIN:VEVENT
DTSTART;TZID=America/New_York:20240623T080000
DTEND;TZID=America/New_York:20240623T170000
DTSTAMP:20260422T055247
CREATED:20240604T205131Z
LAST-MODIFIED:20240604T205131Z
UID:10013237-1719129600-1719162000@gridphilly.com
SUMMARY:Kayak on the Schuylkill this summer
DESCRIPTION:FREE BOATING ADVENTURES ON THE SCHUYLKILL RIVER with LandHealth Institute \nWe’re thrilled to be offering a whole boat load of opportunities to get on the river this summer from a variety of launching points. Whether you’ve never kayaked before or you’re a seasoned paddler\, come on out and help us break in our brand new fleet of kayaks! This city was built to hug the rivers but most of us never get a chance to get on. \nAll ages welcome! No registration is needed for our Dragon Dock dates listed here. \nTo launch from our other two locations\, find out more info through these links: \nFrom East Falls River Dock: https://www.tickettailor.com/events/landhealthinstitute/1274192\nFrom Philadelphia Canoe Club: https://www.tickettailor.com/events/landhealthinstitute/1274176 \nIf you have questions or want to find out more about our kayak opportunities email mayci@landhealthinstitute.org
URL:https://gridphilly.com/event/kayak-on-the-schuylkill-this-summer/2024-06-23/
LOCATION:Dragon Boat Dock\, 1233 MLK Drive\, Philadelphia\, 19131\, United States
CATEGORIES:Arts & Performance,Classes & Workshops,Community Events,Event,Family,Family and Kids,Family-friendly,Food & Drink,Free,Health in Nature,History,Kayak,Native Plants,Outdoor Event,Recreation & Health,River,Special Tour,Watershed
END:VEVENT
BEGIN:VEVENT
DTSTART;TZID=America/New_York:20240616T120000
DTEND;TZID=America/New_York:20240616T153000
DTSTAMP:20260422T055247
CREATED:20240604T205131Z
LAST-MODIFIED:20240604T205131Z
UID:10013234-1718539200-1718551800@gridphilly.com
SUMMARY:Kayak on the Schuylkill this summer
DESCRIPTION:FREE BOATING ADVENTURES ON THE SCHUYLKILL RIVER with LandHealth Institute \nWe’re thrilled to be offering a whole boat load of opportunities to get on the river this summer from a variety of launching points. Whether you’ve never kayaked before or you’re a seasoned paddler\, come on out and help us break in our brand new fleet of kayaks! This city was built to hug the rivers but most of us never get a chance to get on. \nAll ages welcome! No registration is needed for our Dragon Dock dates listed here. \nTo launch from our other two locations\, find out more info through these links: \nFrom East Falls River Dock: https://www.tickettailor.com/events/landhealthinstitute/1274192\nFrom Philadelphia Canoe Club: https://www.tickettailor.com/events/landhealthinstitute/1274176 \nIf you have questions or want to find out more about our kayak opportunities email mayci@landhealthinstitute.org
URL:https://gridphilly.com/event/kayak-on-the-schuylkill-this-summer/2024-06-16/2/
LOCATION:Dragon Boat Dock\, 1233 MLK Drive\, Philadelphia\, 19131\, United States
CATEGORIES:Arts & Performance,Classes & Workshops,Community Events,Event,Family,Family and Kids,Family-friendly,Food & Drink,Free,Health in Nature,History,Kayak,Native Plants,Outdoor Event,Recreation & Health,River,Special Tour,Watershed
END:VEVENT
BEGIN:VEVENT
DTSTART;TZID=America/New_York:20240616T080000
DTEND;TZID=America/New_York:20240616T170000
DTSTAMP:20260422T055247
CREATED:20240604T205131Z
LAST-MODIFIED:20240604T205131Z
UID:10013236-1718524800-1718557200@gridphilly.com
SUMMARY:Kayak on the Schuylkill this summer
DESCRIPTION:FREE BOATING ADVENTURES ON THE SCHUYLKILL RIVER with LandHealth Institute \nWe’re thrilled to be offering a whole boat load of opportunities to get on the river this summer from a variety of launching points. Whether you’ve never kayaked before or you’re a seasoned paddler\, come on out and help us break in our brand new fleet of kayaks! This city was built to hug the rivers but most of us never get a chance to get on. \nAll ages welcome! No registration is needed for our Dragon Dock dates listed here. \nTo launch from our other two locations\, find out more info through these links: \nFrom East Falls River Dock: https://www.tickettailor.com/events/landhealthinstitute/1274192\nFrom Philadelphia Canoe Club: https://www.tickettailor.com/events/landhealthinstitute/1274176 \nIf you have questions or want to find out more about our kayak opportunities email mayci@landhealthinstitute.org
URL:https://gridphilly.com/event/kayak-on-the-schuylkill-this-summer/2024-06-16/1/
LOCATION:Dragon Boat Dock\, 1233 MLK Drive\, Philadelphia\, 19131\, United States
CATEGORIES:Arts & Performance,Classes & Workshops,Community Events,Event,Family,Family and Kids,Family-friendly,Food & Drink,Free,Health in Nature,History,Kayak,Native Plants,Outdoor Event,Recreation & Health,River,Special Tour,Watershed
END:VEVENT
BEGIN:VEVENT
DTSTART;TZID=America/New_York:20230913T180000
DTEND;TZID=America/New_York:20230913T190000
DTSTAMP:20260422T055247
CREATED:20230829T175902Z
LAST-MODIFIED:20230829T175902Z
UID:10006664-1694628000-1694631600@gridphilly.com
SUMMARY:Sunset Kayak Cruise on the FDR Lakes
DESCRIPTION:Join our evening guided kayak tour of the three connected bodies of water: Pattison Lagoon\, Edgewood Lake\, and Hollander Creek. \n\n\nDATE\nWednesday\, September 13\, 2023 \n\n\n\nTIME\n6:00pm – 7:30pm \n\n\n\nLOCATION\nFDR Park Boathouse\n1500 Pattison Avenue\nPhiladelphia\, PA 19145 \n\n\n\nDid you know that FDR is the only park with publicly accessible lakes and an active boating program? Come see for yourself by joining our evening guided kayak tour of the three connected bodies of water: Pattison Lagoon\, Edgewood Lake\, and Hollander Creek. \nKayaking on the flat waters of “The Lakes” with the warm glow of the setting sun is a serene\, yet exciting experience. Moving calmly through the water lets you closely observe an array of wildlife\, especially the variety of bird species. An always great sight is the great blue heron who has made the rowboats in the middle of the lake its preferred park perch! \nTour departs from the FDR Boathouse and heads to the nearby Pattison Lagoon. From there\, you’ll cross the main body of water\, called Edgewood Lake\, and head south to Hollander Creek\, a body of water hidden in the woods and marshlands. Returning to the main lake\, you’ll experience a rarely seen perspective of FDR Park and enjoy spectacular views of the sun setting on the city skyline in the distance! Experienced kayak guides from will share interesting info along the way. \nNo gear or kayaking experience necessary- kayaking equipment and instruction provided by a professional kayak instructor. \nTICKET PRICES: Pay what you can – $30\, $40\, or $50\n[ Not sure what to pay? Please refer to this Sliding Scale Pricing FAQ for additional info. ] \n\nKNOW BEFORE YOU GO: \n\nAll tours begin with a brief safety talk and on-shore kayaking lesson.\nModerate exertion level\nRecommended for ages 12 and up. Parental consent required for minors.\nPlease dress according to weather conditions and wear clothes you don’t mind getting wet.\nFor optimal nature enjoyment\, bring a pair of binoculars.\nBring water and a snack\nBring bug spray and sunscreen\nThere are nearby bathrooms (port-a-potties)\n\n\nPARKING: There is plenty of free parking in the park. As always\, NEVER leave valuables in your car! \nCOVID-19 PROTOCOLS:  By registering for this event you are agreeing to follow ALL of these protocols: \n\nThis event has limited capacity. Please only register if you fully intend to attend and let us know if you need to cancel ASAP.\nIf you or anyone in your household are exhibiting COVID-19 systems\, please stay home.\n\n\nEnjoy our programs? Become a Supporter of Fairmount Park Conservancy to help ensure that Philadelphia’s parks are enhanced for generations to come! Supporters enjoy special benefits like early registration access for events and our Park Perk Pass\, which offers discounts and benefits throughout Philadelphia. \n\n\n\nIn the event of rain or other severe weather conditions\, the event will be canceled and attendees are eligible for a full refund.
URL:https://gridphilly.com/event/sunset-kayak-cruise-on-the-fdr-lakes-4/
LOCATION:FDR Park Boathouse\, South Broad Street\, Philadelphia\, PA\, 19145\, United States
CATEGORIES:Boating,Event,Kayak,Outdoor Event,Water
ATTACH;FMTTYPE=image/jpeg:https://gridphilly.com/wp-content/uploads/2023/04/Kayak.jpeg
END:VEVENT
END:VCALENDAR