BEGIN:VCALENDAR
VERSION:2.0
PRODID:-//Grid Magazine - ECPv6.15.20//NONSGML v1.0//EN
CALSCALE:GREGORIAN
METHOD:PUBLISH
X-ORIGINAL-URL:https://gridphilly.com
X-WR-CALDESC:Events for Grid Magazine
REFRESH-INTERVAL;VALUE=DURATION:PT1H
X-Robots-Tag:noindex
X-PUBLISHED-TTL:PT1H
BEGIN:VTIMEZONE
TZID:America/New_York
BEGIN:DAYLIGHT
TZOFFSETFROM:-0500
TZOFFSETTO:-0400
TZNAME:EDT
DTSTART:20250309T070000
END:DAYLIGHT
BEGIN:STANDARD
TZOFFSETFROM:-0400
TZOFFSETTO:-0500
TZNAME:EST
DTSTART:20251102T060000
END:STANDARD
BEGIN:DAYLIGHT
TZOFFSETFROM:-0500
TZOFFSETTO:-0400
TZNAME:EDT
DTSTART:20260308T070000
END:DAYLIGHT
BEGIN:STANDARD
TZOFFSETFROM:-0400
TZOFFSETTO:-0500
TZNAME:EST
DTSTART:20261101T060000
END:STANDARD
BEGIN:DAYLIGHT
TZOFFSETFROM:-0500
TZOFFSETTO:-0400
TZNAME:EDT
DTSTART:20270314T070000
END:DAYLIGHT
BEGIN:STANDARD
TZOFFSETFROM:-0400
TZOFFSETTO:-0500
TZNAME:EST
DTSTART:20271107T060000
END:STANDARD
END:VTIMEZONE
BEGIN:VEVENT
DTSTART;TZID=America/New_York:20260425T110000
DTEND;TZID=America/New_York:20260425T123000
DTSTAMP:20260420T170154
CREATED:20260406T170703Z
LAST-MODIFIED:20260406T170703Z
UID:10032114-1777114800-1777120200@gridphilly.com
SUMMARY:City Nature Challenge at The Woodlands
DESCRIPTION:Join us for an exciting BioBlitz on Saturday\, April 25 from 11:00 am to 12:30 pm at The Woodlands! (Raindate: 4/26) \nIn partnership with Green Philly\, The Woodlands\, Feminist Bird Club Philly\, Andrew the Arborist\, Disability Pride PA\, the Philadelphia Mycology Club and City Nature Challenge participants will use the app iNaturalist to explore the biodiversity of The Woodlands (an incredible green space located in West Philadelphia) all while participating in community science during the worldwide City Nature Challenge! Community science data collected through iNaturalist observations is key to help monitor urban biodiversity health.
URL:https://gridphilly.com/event/city-nature-challenge-at-the-woodlands/
LOCATION:The Woodlands\, 4000 Woodland Avenue\, Philadelphia\, PA\, 19104\, United States
CATEGORIES:Community Events,family and kid friendly,Family Fun,Family-friendly,Food & Drink,Hands-On Science,Hybrid Event,Lifelong Learning,Outdoor Event,Social,Special Event
ATTACH;FMTTYPE=image/png:https://gridphilly.com/wp-content/uploads/2026/04/Screenshot-2026-04-06-at-1.06.00-PM-e1775495214497.png
GEO:39.945315;-75.208613
X-APPLE-STRUCTURED-LOCATION;VALUE=URI;X-ADDRESS=The Woodlands 4000 Woodland Avenue Philadelphia PA 19104 United States;X-APPLE-RADIUS=500;X-TITLE=4000 Woodland Avenue:geo:-75.208613,39.945315
END:VEVENT
BEGIN:VEVENT
DTSTART;TZID=America/New_York:20260516T120000
DTEND;TZID=America/New_York:20260516T160000
DTSTAMP:20260420T170154
CREATED:20260406T171024Z
LAST-MODIFIED:20260406T171024Z
UID:10032115-1778932800-1778947200@gridphilly.com
SUMMARY:EcoFair 2026
DESCRIPTION:Embark on an immersive journey into sustainability at EcoFair\, Green Philly’s third annual family-friendly event showcasing the region’s eco-resources and initiatives driving positive change. Enjoy a day packed with eye-opening insights and actionable ideas with: \nInspiring and educational programming featuring storytelling and workshops.\n-Recycle your unwanted or used clothing & textiles with The Wardrobe\n-Art activations by Walls for Justice.\n-Sustainable Marketplace: Shop eco-alternatives for your home and life from local makers and businesses.\n-Discover how to take action and get involved with local nonprofits.\n-Meet and network with other sustainably-minded friends \nWhether you’re passionate about making a positive impact on the planet or simply looking for a fun and educational experience\, EcoFair has something for everyone. Secure your spot now and be part of the movement towards a greener future!
URL:https://gridphilly.com/event/ecofair-2026/
LOCATION:Cherry Street Pier\, 121 North Christopher Columbus Boulevard\, Philadelphia\, PA\, 19106\, United States
CATEGORIES:Community Events,family and kid friendly,Family Fun,Family-friendly,Festival,Film,Food & Drink,Hands-On Science,Hybrid Event,Lifelong Learning,Outdoor Event,Social,Special Event,Workshop
ATTACH;FMTTYPE=image/png:https://gridphilly.com/wp-content/uploads/2026/04/2026-Events-Graphics-LinkedIn-Post.png
END:VEVENT
BEGIN:VEVENT
DTSTART;TZID=America/New_York:20260530T110000
DTEND;TZID=America/New_York:20260530T130000
DTSTAMP:20260420T170154
CREATED:20260406T165408Z
LAST-MODIFIED:20260406T165408Z
UID:10032111-1780138800-1780146000@gridphilly.com
SUMMARY:Intro to Handbag Construction
DESCRIPTION:Master the intersection of relaxed silhouettes and functional design by constructing a custom slouch bag. This hands-on session will dive into the pattern making\, construction\, and finishing of a boutique-quality accessory. \nThis workshop is for intermediate sewists who have basic machine and pattern-making confidence and are ready to dive into accessory construction and professional-grade assembly. \nParticipants will learn how to construct a slouch bag\, execute professional assembly\, and master finishing techniques including inset linings\, facings\, and hardware closures. \nParticipants will walk away with a custom\, high-fashion slouch bag and the technical expertise to replicate professional accessory designs for their own handmade wardrobe.
URL:https://gridphilly.com/event/intro-to-handbag-construction/
LOCATION:The Arts League\, 4226 Spruce Street\, Philadelphia\, PA\, 19104\, United States
CATEGORIES:Artists' Workshop Series,Circular Fashion,Classes & Workshops,Classes and Workshops,Community Events,Discussion,family and kid friendly,Family Fun,Family-friendly,Festival,Film,Food & Drink,Hands-On Science,Hybrid Event,Lifelong Learning,Outdoor Event,Social,Special Event,Workshop
ATTACH;FMTTYPE=image/png:https://gridphilly.com/wp-content/uploads/2026/04/Untitled-design-14.png
ORGANIZER;CN="Jewel Moser":MAILTO:moser.jewel@gmail.com
END:VEVENT
BEGIN:VEVENT
DTSTART;TZID=America/New_York:20260613T120000
DTEND;TZID=America/New_York:20260613T180000
DTSTAMP:20260420T170154
CREATED:20260406T165810Z
LAST-MODIFIED:20260406T165810Z
UID:10032112-1781352000-1781373600@gridphilly.com
SUMMARY:Art For the Cash Poor
DESCRIPTION:Art for the Cash Poor 2026 will be inside and outside! Learn more and connect with our vendors below. \nPurchase works from 100+ artists\, crafters\, and designers both inside the Icebox Project Space and outside the Crane Arts Building! The Art for the Cash Poor festival is an affordable art fair that activates and brings together North American Street’s robust arts corridor.\n‍\nArtist vendors sell original works for $250 or less and local arts and community organizations will provide free programming for visitors that day\, including arts and crafts-making demonstrations\, workshops\, and more! \nArt for the Cash Poor brings together a wide array of visual artists from diverse backgrounds and voices\, celebrating the emerging and established talents in our region. \nArt for the Cash Poor is an affordable art sale that directly benefits visual artists\, designers\, and craftspeople.\n‍\n– All work priced at $250 or less!\n– All proceeds from art sales go directly to the artists.\n– All artwork is an original production the artist.\n‍ \n2026 Vendor call is now open.\nDeadline to apply is Monday\, April 27.
URL:https://gridphilly.com/event/art-for-the-cash-poor/
LOCATION:InLiquid Gallery in the Crane Building\, 1400 North American\, Suit 108\, Philadelphia\, PA\, 19122\, United States
CATEGORIES:Art,Artists' Workshop Series,Arts & Culture,Arts & Performance,Circular Fashion,Classes & Workshops,Classes and Workshops,Community Events,Discussion,family and kid friendly,Family Fun,Family-friendly,Festival,Film,Food & Drink,Hands-On Science,Hybrid Event,Lifelong Learning,Outdoor Event,Social,Special Event,Workshop
ATTACH;FMTTYPE=image/png:https://gridphilly.com/wp-content/uploads/2026/04/Screenshot-2026-04-06-at-12.57.35-PM.png
END:VEVENT
END:VCALENDAR