BEGIN:VCALENDAR
VERSION:2.0
PRODID:-//Grid Magazine - ECPv6.15.20//NONSGML v1.0//EN
CALSCALE:GREGORIAN
METHOD:PUBLISH
X-ORIGINAL-URL:https://gridphilly.com
X-WR-CALDESC:Events for Grid Magazine
REFRESH-INTERVAL;VALUE=DURATION:PT1H
X-Robots-Tag:noindex
X-PUBLISHED-TTL:PT1H
BEGIN:VTIMEZONE
TZID:America/New_York
BEGIN:DAYLIGHT
TZOFFSETFROM:-0500
TZOFFSETTO:-0400
TZNAME:EDT
DTSTART:20220313T070000
END:DAYLIGHT
BEGIN:STANDARD
TZOFFSETFROM:-0400
TZOFFSETTO:-0500
TZNAME:EST
DTSTART:20221106T060000
END:STANDARD
BEGIN:DAYLIGHT
TZOFFSETFROM:-0500
TZOFFSETTO:-0400
TZNAME:EDT
DTSTART:20230312T070000
END:DAYLIGHT
BEGIN:STANDARD
TZOFFSETFROM:-0400
TZOFFSETTO:-0500
TZNAME:EST
DTSTART:20231105T060000
END:STANDARD
BEGIN:DAYLIGHT
TZOFFSETFROM:-0500
TZOFFSETTO:-0400
TZNAME:EDT
DTSTART:20240310T070000
END:DAYLIGHT
BEGIN:STANDARD
TZOFFSETFROM:-0400
TZOFFSETTO:-0500
TZNAME:EST
DTSTART:20241103T060000
END:STANDARD
BEGIN:DAYLIGHT
TZOFFSETFROM:-0500
TZOFFSETTO:-0400
TZNAME:EDT
DTSTART:20250309T070000
END:DAYLIGHT
BEGIN:STANDARD
TZOFFSETFROM:-0400
TZOFFSETTO:-0500
TZNAME:EST
DTSTART:20251102T060000
END:STANDARD
END:VTIMEZONE
BEGIN:VEVENT
DTSTART;TZID=America/New_York:20240120T093000
DTEND;TZID=America/New_York:20240120T163000
DTSTAMP:20260419T234229
CREATED:20231231T175222Z
LAST-MODIFIED:20231231T175222Z
UID:10010406-1705743000-1705768200@gridphilly.com
SUMMARY:Winter Zen: Asanas in the Arboretum
DESCRIPTION:A DAY OF YOGA FOR THE TYLER COMMUNITY \nChase the winter blues away with mindful movement! Join us for a day of yoga in Tyler’s beautiful Barn Loft. Choose from a variety of classes with outstanding local instructors: \nYogAmi Family Yoga with Allison DeSalvo: 9:30-10:30 am   “Winter Yoga Wonderland”: Adventure into a wintery world while engaging our imaginations and senses in this interactive kid- and family-friendly yoga class. Learn poses and exercises for the body\, interweaving music and creative movement\, partner and group poses\, storytelling\, and games filling out our fun. Explore simple breathing and mindfulness for calming mind and heart as we connect to ourselves\, each other and the natural world. For adults and children ages 2 to 7. A short Craft & Story Time will follow the class. For more information and to register\, click HERE. \nPower Flow with Ibrahim Miari:  11:00 am to noon  Power Yoga is an energetic class stemming from a Vinyasa-based background. Power Yoga focuses on building strength and endurance while moving through a fast-paced flow. The poses are challenging\, moving quickly from one asana to the next with connected breathwork. Recommended for intermediate levels\, adults only. For more information and to register\, click HERE. \nVinyasa Flow with Lisa Fell:  12:30-1:30 pm Sun salutations and creative flow sequences\, linking your breath with each movement. Energize your mind\, body\, and spirit while creating a moving meditation. Improve your strength and flexibility and melt away tension. All levels are welcome; pose options will be offered. Adults only. For more information and to register\, click HERE. \nCore with a Twist with Lisa Fell & Christina Teofilak: 2:00-3:00 pm Twist\, tone\, and strengthen with an active breathing practice. This class includes a variety of plank exercises\, boats\, and crunches with gentle and active twists. Stretches are sprinkled throughout for the complete yoga experience. All levels are welcome. Adults only. For more information and to register\, click HERE. \nGentle Flow with Christina Teofilak: 3:30-4:30 pm A slower flow class incorporating simple flow sequences suitable for beginners and intermediate levels. Poses will be guided with modifications focused on alignment\, gentle movements\, and breath. The class will end in stillness for full-body relaxation\, offering you the opportunity to take home all the physical and mental benefits of yoga. All levels are welcome. Adults only. For more information and to register\, click HERE.
URL:https://gridphilly.com/event/winter-zen-asanas-in-the-arboretum/
LOCATION:DE
CATEGORIES:Health in Nature
ATTACH;FMTTYPE=image/jpeg:https://gridphilly.com/wp-content/uploads/2023/12/Resized_20230114_094059-VHPBxl.tmp_.jpg
ORGANIZER;CN="Joanne Landau":MAILTO:jlandau@tylerarboretum.org
END:VEVENT
BEGIN:VEVENT
DTSTART;TZID=America/New_York:20231119T120000
DTEND;TZID=America/New_York:20231119T150000
DTSTAMP:20260419T234229
CREATED:20231113T211313Z
LAST-MODIFIED:20231113T211313Z
UID:10008199-1700395200-1700406000@gridphilly.com
SUMMARY:Family-Friendly Mindful Hike with FOW and Hike+Heal
DESCRIPTION:November 19 @ 12:00 pm – 3:00 pm\n\n\n\nMeet at Houston Playground \nWe’ve learned so much from our Wellness Consultant\, Brandi Aulston\, especially that healing and wellness aren’t linear; it’s a continued investment in ourselves. We’re happy to invite you to a family-friendly hike led by Brandi\, the founder of Hike+Healwhere families can focus on their wellness. This hike is a great chance to connect with the outdoors and your community. All are welcome! Together\, we’ll engage in interactive exercises\, reflect\, and practice mindfulness as we experience the beauty of the Wissahickon in crisp fall weather. \nWe’ll begin at Houston Playground at 12:00 PM for some family fun at the playground and begin our hike at 12:45. \nBrandi Aulston\, MHA/MHE founder of Hike+Heal Wellness LLC\, is a wellness entrepreneur extremely dedicated to women’s overall wellness to help eliminate health disparities and increase diversity in the outdoor space for inner city women of color. Since 2019\, Hike+Heal has created a safe space for strong community connections for people who desire to prioritize their self-care while connecting together in a powerful and healing way in nature. Hike+Heal was one of nineteen winners of the 2021 Pennsylvania COVID-19 Champion awarded by the Pennsylvania Parks & Forests Foundation. \nPlease note: this event will be recorded. Please fill out the photo waiver here. \nIn order to attend\, participants must print and sign this waiver from Hike+Heal. Please bring it\, completed\, to the event.
URL:https://gridphilly.com/event/family-friendly-mindful-hike-with-fow-and-hikeheal/
LOCATION:Houston Playground\, 900 Grakyn Lane\, Philadelphia\, PA\, 19128\, United States
CATEGORIES:---On the Trail,Community Events,Community Meetup,Family,Family and Kids,Family-friendly,Free Community Events,Health & Wellness,Health in Nature,Nature Walks,Outdoor Event
ATTACH;FMTTYPE=image/webp:https://gridphilly.com/wp-content/uploads/2023/11/HikeHeal.webp
GEO:40.06836;-75.232531
X-APPLE-STRUCTURED-LOCATION;VALUE=URI;X-ADDRESS=Houston Playground 900 Grakyn Lane Philadelphia PA 19128 United States;X-APPLE-RADIUS=500;X-TITLE=900 Grakyn Lane:geo:-75.232531,40.06836
END:VEVENT
BEGIN:VEVENT
DTSTART;TZID=America/New_York:20231111T120000
DTEND;TZID=America/New_York:20231111T140000
DTSTAMP:20260419T234229
CREATED:20231107T183321Z
LAST-MODIFIED:20231107T183321Z
UID:10008168-1699704000-1699711200@gridphilly.com
SUMMARY:Grief Walk in Nature with Philly Goat Project – Naila Francis
DESCRIPTION:Loss around the holidays? You are not alone. Please join us at the farm for a Nature Walk with Grief Coach Naila Francis from This Hallowed Wilderness to discuss navigating the various ways we hold grief and loss in our lives. FREE\, come as you are\, no registration needed. All ages are welcome. Text or call us with any questions: 215-703-8057. \nOur program will be begin at 12pm at the Barn and include optional goat walks\, discussion and reflection.  We start right on time\, check this website and our social media for weather related changes. \nRAIN DATE is Sunday\, November 19th from 12-2pm.
URL:https://gridphilly.com/event/grief-walk-in-nature-with-philly-goat-project-naila-francis/
LOCATION:The Farm at Awbury Arboretum\, 6336 Ardleigh Street\, Philadelphia\, PA\, 19138\, United States
CATEGORIES:Community Events,Family-friendly,Free Community Events,Health & Wellness,Health in Nature
ATTACH;FMTTYPE=image/jpeg:https://gridphilly.com/wp-content/uploads/2023/11/GoatGriefWalk.jpeg
END:VEVENT
BEGIN:VEVENT
DTSTART;TZID=America/New_York:20231019T080000
DTEND;TZID=America/New_York:20231019T170000
DTSTAMP:20260419T234229
CREATED:20230907T171425Z
LAST-MODIFIED:20230907T171425Z
UID:10006767-1697702400-1697734800@gridphilly.com
SUMMARY:Global Water Alliance 16th Annual Conference: Advancing WaSH Goals in a Changing World Through Innovation and Resilience
DESCRIPTION:The challenges of climate change and resource shortages require innovative approaches to advance resiliency and mitigation in WaSH (water\, sanitation\, and hygiene). \nThis 1-day conference will address the urgent need for new technologies and new data analytics in water management throughout the world in order to adapt to the future realities of more extreme weather patterns and events\, sea-level rising\, glacier melting and drought. Innovative thinking is needed. Successful implementation of new and modern (water) management tools will be highlighted; innovative approaches for community involvement and commercial buy-in will be debated; and practical solutions as brokered by governing bodies\, market suppliers\, and adjusted legal frameworks will be highlighted. All stakeholder groups will be represented. \nCo-hosted by Global Water Alliance and Science History Institute \nFor more details: https://globalwateralliance.net/event/annual-conference/\nTo register: https://globalwateralliance.net/event/annual-conference/
URL:https://gridphilly.com/event/global-water-alliance-16th-annual-conference-advancing-wash-goals-in-a-changing-world-through-innovation-and-resilience/
LOCATION:Science History Institute\, 315 Chestnut Street\, Philadelphia\, PA\, 19106\, United States
CATEGORIES:Discussion,Event,Health & Wellness,Health in Nature,History,Hosted events,Hybrid Event,Nature & Community Science,Professional,River,Stormwater,Water,Watershed
ATTACH;FMTTYPE=image/jpeg:https://gridphilly.com/wp-content/uploads/2023/09/2023-GWA-Conference-Facebook.jpg
END:VEVENT
BEGIN:VEVENT
DTSTART;TZID=America/New_York:20230921T180000
DTEND;TZID=America/New_York:20230921T190000
DTSTAMP:20260419T234229
CREATED:20230731T135330Z
LAST-MODIFIED:20230731T135330Z
UID:10006141-1695319200-1695322800@gridphilly.com
SUMMARY:Walk Around Philadelphia Exhibit Happy Hours
DESCRIPTION:Join walk organizer JJ Tiziou for happy hour at Cherry Street Pier to check out the 2023 Walk Around Philadelphia installation and learn more about the walk. \nThis exhibit features images from the city’s edge created by artists who’ve set out to explore the city’s border on foot. \nLibations and refreshments will be available for sale via the Cherry Street Pier vendors. \nFor itineraries and registration for actual walk segments visit https://www.jjtiziou.net/project/walk-around-philadelphia/
URL:https://gridphilly.com/event/walk-around-philadelphia-exhibit-happy-hours/2023-09-21/
LOCATION:Cherry Street Pier\, 121 North Christopher Columbus Boulevard\, Philadelphia\, PA\, 19106\, United States
CATEGORIES:---On the Trail,Arts & Culture,Environmental Art,Happy Hour,Health in Nature
ATTACH;FMTTYPE=image/jpeg:https://gridphilly.com/wp-content/uploads/2023/07/Walkers_CSP_exhibit_square.jpg
END:VEVENT
BEGIN:VEVENT
DTSTART;TZID=America/New_York:20230914T180000
DTEND;TZID=America/New_York:20230914T190000
DTSTAMP:20260419T234229
CREATED:20230731T135330Z
LAST-MODIFIED:20230731T135330Z
UID:10006140-1694714400-1694718000@gridphilly.com
SUMMARY:Walk Around Philadelphia Exhibit Happy Hours
DESCRIPTION:Join walk organizer JJ Tiziou for happy hour at Cherry Street Pier to check out the 2023 Walk Around Philadelphia installation and learn more about the walk. \nThis exhibit features images from the city’s edge created by artists who’ve set out to explore the city’s border on foot. \nLibations and refreshments will be available for sale via the Cherry Street Pier vendors. \nFor itineraries and registration for actual walk segments visit https://www.jjtiziou.net/project/walk-around-philadelphia/
URL:https://gridphilly.com/event/walk-around-philadelphia-exhibit-happy-hours/2023-09-14/
LOCATION:Cherry Street Pier\, 121 North Christopher Columbus Boulevard\, Philadelphia\, PA\, 19106\, United States
CATEGORIES:---On the Trail,Arts & Culture,Environmental Art,Happy Hour,Health in Nature
ATTACH;FMTTYPE=image/jpeg:https://gridphilly.com/wp-content/uploads/2023/07/Walkers_CSP_exhibit_square.jpg
END:VEVENT
BEGIN:VEVENT
DTSTART;TZID=America/New_York:20230909T100000
DTEND;TZID=America/New_York:20230909T140000
DTSTAMP:20260419T234229
CREATED:20230907T171107Z
LAST-MODIFIED:20230907T171107Z
UID:10006768-1694253600-1694268000@gridphilly.com
SUMMARY:Summer Festival at Whitby Park
DESCRIPTION:The Cobbs Creek Park Ambassadors invite neighbors to come enjoy free food\, music\, and outdoor fun in the park! We will have bounce houses\, a native plant giveaway\, expert-led birding and mushroom walks\, water testing demonstrations\, and more.
URL:https://gridphilly.com/event/summer-festival-at-whitby-park/
LOCATION:Cobbs Creek Parkway & Thomas Avenue\, Cobbs Creek Parkway & Thomas Ave\, Philadelphia\, PA\, 19143\, United States
CATEGORIES:Family-friendly,Festival,Food,Foraging,Free,Health in Nature,Native Plants,Nature Walks
ATTACH;FMTTYPE=image/jpeg:https://gridphilly.com/wp-content/uploads/2023/09/IMG_6304.jpeg
END:VEVENT
BEGIN:VEVENT
DTSTART;TZID=America/New_York:20230909T070000
DTEND;TZID=America/New_York:20230910T170000
DTSTAMP:20260419T234229
CREATED:20230529T145325Z
LAST-MODIFIED:20230529T145325Z
UID:10005112-1694242800-1694365200@gridphilly.com
SUMMARY:Farm Days Festival 2023
DESCRIPTION:Ethos Farm Project is a 501 c3\, non-profit founded to address the interconnected nature of how agriculture affects human health\, planetary health\, and our relationship with nature. We do so by producing truly nourishing food to feed our community and restoring the land – all while cultivating and empowering a new generation of farmers\, physicians and health & wellness lifestyle coaches through our hands-on educational programming. \nTo help us achieve our mission and vision\, we host an annual Farm Days Festival at our beautiful 342 acre farm in bucolic Long Valley\, NJ. This year Farm Days Festival will be on Sept 9th and 10th\, 2023. It will be a weekend of insight and inspiration provided by a stellar list of guest speakers: Peter Singer\, Rich Roll\, Drs Dean and Ayesha Sherzai\, Dr Meagan Grega\, Dr Columbus Batiste\, Sara Farley – Vice President\, Global Food Portfolio at the Rockefeller Foundation\, Bob Quinn – Founder of Kamut grain and author of bestselling book: Grain to Grain\, and Dr Weiss. They will talk about plant-based nutrition\, environmental health and animal advocacy\, and will discuss how our diets not only affect our health but also the health of the planet. Brittany Jaroudi of the Jaroudi Family will conduct cooking demos as well as nice cream making and art sessions to engage kids while the parents listen to our inspiring speakers. \nThe two-day event will end with a panel discussion and audience Q&A session on the “Ethics of Eating” theme which will be moderated by Andrew Chignell – Professor at Princeton with appointments in religion and philosophy and co-producer of a massive Open Online course for EdX.org entitled\, “The Ethics of Eating”.
URL:https://gridphilly.com/event/farm-days-festival-2023/
LOCATION:Ethos Farm\, 177 West Mill Rd\, Long Valley\, NJ\, 07853\, United States
CATEGORIES:Adults,Classes and Workshops,Events,Family and Kids,Festival,Food,Get Active,Health & Wellness,Health in Nature,Recreation & Health
ATTACH;FMTTYPE=image/png:https://gridphilly.com/wp-content/uploads/2023/05/FARM-DAYS-FESTIVAL-Main-Image.png
ORGANIZER;CN="Ethos Farm Project":MAILTO:pthakur@ethosfarmproject.org
END:VEVENT
BEGIN:VEVENT
DTSTART;TZID=America/New_York:20230907T180000
DTEND;TZID=America/New_York:20230907T190000
DTSTAMP:20260419T234230
CREATED:20230731T135330Z
LAST-MODIFIED:20230731T135330Z
UID:10006139-1694109600-1694113200@gridphilly.com
SUMMARY:Walk Around Philadelphia Exhibit Happy Hours
DESCRIPTION:Join walk organizer JJ Tiziou for happy hour at Cherry Street Pier to check out the 2023 Walk Around Philadelphia installation and learn more about the walk. \nThis exhibit features images from the city’s edge created by artists who’ve set out to explore the city’s border on foot. \nLibations and refreshments will be available for sale via the Cherry Street Pier vendors. \nFor itineraries and registration for actual walk segments visit https://www.jjtiziou.net/project/walk-around-philadelphia/
URL:https://gridphilly.com/event/walk-around-philadelphia-exhibit-happy-hours/2023-09-07/
LOCATION:Cherry Street Pier\, 121 North Christopher Columbus Boulevard\, Philadelphia\, PA\, 19106\, United States
CATEGORIES:---On the Trail,Arts & Culture,Environmental Art,Happy Hour,Health in Nature
ATTACH;FMTTYPE=image/jpeg:https://gridphilly.com/wp-content/uploads/2023/07/Walkers_CSP_exhibit_square.jpg
END:VEVENT
BEGIN:VEVENT
DTSTART;TZID=America/New_York:20230831T180000
DTEND;TZID=America/New_York:20230831T190000
DTSTAMP:20260419T234230
CREATED:20230731T135330Z
LAST-MODIFIED:20230731T135330Z
UID:10006138-1693504800-1693508400@gridphilly.com
SUMMARY:Walk Around Philadelphia Exhibit Happy Hours
DESCRIPTION:Join walk organizer JJ Tiziou for happy hour at Cherry Street Pier to check out the 2023 Walk Around Philadelphia installation and learn more about the walk. \nThis exhibit features images from the city’s edge created by artists who’ve set out to explore the city’s border on foot. \nLibations and refreshments will be available for sale via the Cherry Street Pier vendors. \nFor itineraries and registration for actual walk segments visit https://www.jjtiziou.net/project/walk-around-philadelphia/
URL:https://gridphilly.com/event/walk-around-philadelphia-exhibit-happy-hours/2023-08-31/
LOCATION:Cherry Street Pier\, 121 North Christopher Columbus Boulevard\, Philadelphia\, PA\, 19106\, United States
CATEGORIES:---On the Trail,Arts & Culture,Environmental Art,Happy Hour,Health in Nature
ATTACH;FMTTYPE=image/jpeg:https://gridphilly.com/wp-content/uploads/2023/07/Walkers_CSP_exhibit_square.jpg
END:VEVENT
END:VCALENDAR