BEGIN:VCALENDAR
VERSION:2.0
PRODID:-//Grid Magazine - ECPv6.15.20//NONSGML v1.0//EN
CALSCALE:GREGORIAN
METHOD:PUBLISH
X-WR-CALNAME:Grid Magazine
X-ORIGINAL-URL:https://gridphilly.com
X-WR-CALDESC:Events for Grid Magazine
REFRESH-INTERVAL;VALUE=DURATION:PT1H
X-Robots-Tag:noindex
X-PUBLISHED-TTL:PT1H
BEGIN:VTIMEZONE
TZID:America/New_York
BEGIN:DAYLIGHT
TZOFFSETFROM:-0500
TZOFFSETTO:-0400
TZNAME:EDT
DTSTART:20250309T070000
END:DAYLIGHT
BEGIN:STANDARD
TZOFFSETFROM:-0400
TZOFFSETTO:-0500
TZNAME:EST
DTSTART:20251102T060000
END:STANDARD
BEGIN:DAYLIGHT
TZOFFSETFROM:-0500
TZOFFSETTO:-0400
TZNAME:EDT
DTSTART:20260308T070000
END:DAYLIGHT
BEGIN:STANDARD
TZOFFSETFROM:-0400
TZOFFSETTO:-0500
TZNAME:EST
DTSTART:20261101T060000
END:STANDARD
BEGIN:DAYLIGHT
TZOFFSETFROM:-0500
TZOFFSETTO:-0400
TZNAME:EDT
DTSTART:20270314T070000
END:DAYLIGHT
BEGIN:STANDARD
TZOFFSETFROM:-0400
TZOFFSETTO:-0500
TZNAME:EST
DTSTART:20271107T060000
END:STANDARD
BEGIN:DAYLIGHT
TZOFFSETFROM:-0500
TZOFFSETTO:-0400
TZNAME:EDT
DTSTART:20280312T070000
END:DAYLIGHT
BEGIN:STANDARD
TZOFFSETFROM:-0400
TZOFFSETTO:-0500
TZNAME:EST
DTSTART:20281105T060000
END:STANDARD
END:VTIMEZONE
BEGIN:VEVENT
DTSTART;TZID=America/New_York:20260421T180000
DTEND;TZID=America/New_York:20260421T200000
DTSTAMP:20260419T181426
CREATED:20260418T020727Z
LAST-MODIFIED:20260418T020727Z
UID:10032239-1776794400-1776801600@gridphilly.com
SUMMARY:Design A Doodad: Travel Game Zine
DESCRIPTION:BARRIO TELEVISION (work in progress) by Christina DiPasquale\n(USA\, 2026\, TBD) \nBARRIO TELEVISION uncovers the story of Puerto Rican activists who produced the first bilingual Latino television series to air nationwide called “Realidades.” After tracing U.S. complicity in the 1973 coup in Chile\, “Realidades” received backlash and the Nixon administration moved to cut public-media funding\, knocking the show off the air. Undeterred\, the creators mounted a comeback—training media makers in Philadelphia\, organizing a media coalition\, and sparking a fight for media power that continues to this day. \nChristina DiPasquale is a Colombian-American storyteller based in Philadelphia dedicated to advancing participatory media practices rooted in collective memory and movement-building.
URL:https://gridphilly.com/event/design-a-doodad-travel-game-zine-2/
LOCATION:Design Gym @ Colorspace Labs\, 1714 N Mascher St\, Philadelphia\, 19122\, United States
CATEGORIES:Adults,Art,Arts & Culture,Classes & Workshops,Discussion,Event,family and kid friendly,Family-friendly,Film,History,Make + Take Series,Series,Teachers,Workshop
ATTACH;FMTTYPE=image/png:https://gridphilly.com/wp-content/uploads/2026/04/BarrioTV_still-2.png
END:VEVENT
BEGIN:VEVENT
DTSTART;TZID=America/New_York:20260429T190000
DTEND;TZID=America/New_York:20260430T210000
DTSTAMP:20260419T181426
CREATED:20260310T183121Z
LAST-MODIFIED:20260310T183121Z
UID:10030079-1777489200-1777582800@gridphilly.com
SUMMARY:Immigrant Rights Film Screening\, Live Cumbia Band\, and Barbacoa at Bartram's Garden
DESCRIPTION:JourneyArts’ Table Sessions is back at Bartram’s Garden on April 29th and 30th\, curated by award-winning Philly filmmaker Kristal Sotomayor! Catch a screening of Expanding Sanctuary\, which tells the story of Linda\, a Mexican immigrant mother who joins local activist organization Juntos to fight against ICE in Philadelphia\, enjoy a live performance from local cumbia band Mariposas Galacticas AND catering from award-winning Chef Cristina Martinez of South Philly Barbacoa!
URL:https://gridphilly.com/event/immigrant-rights-film-screening-live-cumbia-band-and-barbacoa-at-bartrams-garden/2026-04-29/
LOCATION:Bartram’s Garden\, 5400 Lindbergh Boulevard\, Philadelphia\, PA\, 19143\, United States
CATEGORIES:Accessible Event,Activism,Adults,Advocacy,Art,Arts & Culture,Arts & Performance,Community Events,Concert,Culinary,Discussion,Family,Family-friendly,Film,Food & Drink,LGBTQIA+,Special Event,Support Bartram's Garden
ATTACH;FMTTYPE=image/png:https://gridphilly.com/wp-content/uploads/2026/03/NEW-Kristal_Instagram-4-5.png
END:VEVENT
BEGIN:VEVENT
DTSTART;TZID=America/New_York:20260430T190000
DTEND;TZID=America/New_York:20260501T210000
DTSTAMP:20260419T181426
CREATED:20260310T183121Z
LAST-MODIFIED:20260310T183121Z
UID:10030080-1777575600-1777669200@gridphilly.com
SUMMARY:Immigrant Rights Film Screening\, Live Cumbia Band\, and Barbacoa at Bartram's Garden
DESCRIPTION:JourneyArts’ Table Sessions is back at Bartram’s Garden on April 29th and 30th\, curated by award-winning Philly filmmaker Kristal Sotomayor! Catch a screening of Expanding Sanctuary\, which tells the story of Linda\, a Mexican immigrant mother who joins local activist organization Juntos to fight against ICE in Philadelphia\, enjoy a live performance from local cumbia band Mariposas Galacticas AND catering from award-winning Chef Cristina Martinez of South Philly Barbacoa!
URL:https://gridphilly.com/event/immigrant-rights-film-screening-live-cumbia-band-and-barbacoa-at-bartrams-garden/2026-04-30/
LOCATION:Bartram’s Garden\, 5400 Lindbergh Boulevard\, Philadelphia\, PA\, 19143\, United States
CATEGORIES:Accessible Event,Activism,Adults,Advocacy,Art,Arts & Culture,Arts & Performance,Community Events,Concert,Culinary,Discussion,Family,Family-friendly,Film,Food & Drink,LGBTQIA+,Special Event,Support Bartram's Garden
ATTACH;FMTTYPE=image/png:https://gridphilly.com/wp-content/uploads/2026/03/NEW-Kristal_Instagram-4-5.png
END:VEVENT
BEGIN:VEVENT
DTSTART;TZID=America/New_York:20260506T190000
DTEND;TZID=America/New_York:20260506T210000
DTSTAMP:20260419T181426
CREATED:20260304T220454Z
LAST-MODIFIED:20260304T220454Z
UID:10029979-1778094000-1778101200@gridphilly.com
SUMMARY:INTENSIVE SCREENWRITING WORKSHOP
DESCRIPTION:SIFTMedia Collective presents a 4 week Intensive Screenwriting Workshop with Stephanie Malson – this Workshop is designed to support filmmakers\, whether starting with an initial concept or refining a short or feature-length screenplay. Through deep analysis and communal feedback\, you’ll see your idea or draft develop into a screenplay.
URL:https://gridphilly.com/event/intensive-screenwriting-workshop/2026-05-06/
CATEGORIES:Classes & Workshops,Clean-ups,Film,Food & Drink
ATTACH;FMTTYPE=image/jpeg:https://gridphilly.com/wp-content/uploads/2026/03/Intensive-Screenwriting-Workshop_March_2026_Stephanie-Malson.jpg
ORGANIZER;CN="SIFTMedia 215":MAILTO:siftmedia215@gmail.com
END:VEVENT
BEGIN:VEVENT
DTSTART;TZID=America/New_York:20260511T180000
DTEND;TZID=America/New_York:20260511T200000
DTSTAMP:20260419T181426
CREATED:20260406T200046Z
LAST-MODIFIED:20260406T200046Z
UID:10032132-1778522400-1778529600@gridphilly.com
SUMMARY:cinéSPEAK x Two Locals Brewing Company present Sorry to Bother You (2018)
DESCRIPTION:Join us for cinéSPEAK x Two Locals Brewing Company present Movie Mondays—a monthly gathering every 2nd Monday celebrating innovative Black filmmakers! \nIn May\, we’re centering workers and labor organizing by showcasing the work of the brilliant Boots Riley and his 2018 indie hit\, Sorry to Bother You. Be sure to keep an eye on his next highly anticipated feature\, I Love Boosters\, which hits theaters on May 22! \nEvent Flow:\nEnjoy happy hour at 5-7 PM ($9 sangria\, $1 off beer & wine\, $10 bartender’s special cocktail!) \nFilm at 6-8:30PM (you’ll have fun AND be home and in bed before 10!) \nFood:\nBYO-Dinner (bring your dinner or have it delivered)\nFree movie theater style popcorn by cinéSPEAK \nTickets:\nThis event is free to attend\, however\, if you like what cinéSPEAK does\, please consider donating $5 (or more) to help us cover the costs of film licensing fees and local artist talent. Thank you in advance!
URL:https://gridphilly.com/event/cinespeak-x-two-locals-brewing-company-present-sorry-to-bother-you-2018/
LOCATION:Two Locals Brewing\, 3675 Market Street\, #Suite 100\, Philadelphia\, PA\, 19104\, United States
CATEGORIES:Artists' Workshop Series,Arts & Culture,Arts & Performance,Black Owned Business,Community Events,Film,Food & Drink,Special Event
ATTACH;FMTTYPE=image/png:https://gridphilly.com/wp-content/uploads/2026/04/promos-flat-sb-sq-1.png
END:VEVENT
BEGIN:VEVENT
DTSTART;TZID=America/New_York:20260516T120000
DTEND;TZID=America/New_York:20260516T160000
DTSTAMP:20260419T181426
CREATED:20260406T171024Z
LAST-MODIFIED:20260406T171024Z
UID:10032115-1778932800-1778947200@gridphilly.com
SUMMARY:EcoFair 2026
DESCRIPTION:Embark on an immersive journey into sustainability at EcoFair\, Green Philly’s third annual family-friendly event showcasing the region’s eco-resources and initiatives driving positive change. Enjoy a day packed with eye-opening insights and actionable ideas with: \nInspiring and educational programming featuring storytelling and workshops.\n-Recycle your unwanted or used clothing & textiles with The Wardrobe\n-Art activations by Walls for Justice.\n-Sustainable Marketplace: Shop eco-alternatives for your home and life from local makers and businesses.\n-Discover how to take action and get involved with local nonprofits.\n-Meet and network with other sustainably-minded friends \nWhether you’re passionate about making a positive impact on the planet or simply looking for a fun and educational experience\, EcoFair has something for everyone. Secure your spot now and be part of the movement towards a greener future!
URL:https://gridphilly.com/event/ecofair-2026/
LOCATION:Cherry Street Pier\, 121 North Christopher Columbus Boulevard\, Philadelphia\, PA\, 19106\, United States
CATEGORIES:Community Events,family and kid friendly,Family Fun,Family-friendly,Festival,Film,Food & Drink,Hands-On Science,Hybrid Event,Lifelong Learning,Outdoor Event,Social,Special Event,Workshop
ATTACH;FMTTYPE=image/png:https://gridphilly.com/wp-content/uploads/2026/04/2026-Events-Graphics-LinkedIn-Post.png
END:VEVENT
BEGIN:VEVENT
DTSTART;TZID=America/New_York:20260530T110000
DTEND;TZID=America/New_York:20260530T130000
DTSTAMP:20260419T181426
CREATED:20260406T165408Z
LAST-MODIFIED:20260406T165408Z
UID:10032111-1780138800-1780146000@gridphilly.com
SUMMARY:Intro to Handbag Construction
DESCRIPTION:Master the intersection of relaxed silhouettes and functional design by constructing a custom slouch bag. This hands-on session will dive into the pattern making\, construction\, and finishing of a boutique-quality accessory. \nThis workshop is for intermediate sewists who have basic machine and pattern-making confidence and are ready to dive into accessory construction and professional-grade assembly. \nParticipants will learn how to construct a slouch bag\, execute professional assembly\, and master finishing techniques including inset linings\, facings\, and hardware closures. \nParticipants will walk away with a custom\, high-fashion slouch bag and the technical expertise to replicate professional accessory designs for their own handmade wardrobe.
URL:https://gridphilly.com/event/intro-to-handbag-construction/
LOCATION:The Arts League\, 4226 Spruce Street\, Philadelphia\, PA\, 19104\, United States
CATEGORIES:Artists' Workshop Series,Circular Fashion,Classes & Workshops,Classes and Workshops,Community Events,Discussion,family and kid friendly,Family Fun,Family-friendly,Festival,Film,Food & Drink,Hands-On Science,Hybrid Event,Lifelong Learning,Outdoor Event,Social,Special Event,Workshop
ATTACH;FMTTYPE=image/png:https://gridphilly.com/wp-content/uploads/2026/04/Untitled-design-14.png
ORGANIZER;CN="Jewel Moser":MAILTO:moser.jewel@gmail.com
END:VEVENT
BEGIN:VEVENT
DTSTART;TZID=America/New_York:20260601T180000
DTEND;TZID=America/New_York:20260601T200000
DTSTAMP:20260419T181426
CREATED:20260417T145147Z
LAST-MODIFIED:20260417T145147Z
UID:10032238-1780336800-1780344000@gridphilly.com
SUMMARY:Scribe's Precious Places Premiere
DESCRIPTION:Precious Places Premiere\nMontgomery Auditorium\, Parkway Central Library\, 1901 Vine Street \nSince 2003\, Scribe Video Center’s Precious Places Community History Project has facilitated the production of 124 short documentaries about the spaces that hold the memories of our communities and define where we live. Precious Places teaches the video production process to participating groups\, fostering projects authored by those who intimately know the featured neighborhoods best. \nJoin Scribe in premiering 6 new films in the Precious Places Community History Project\, including documentaries on the African American Museum of Philadelphia in Old City\, East Mt. Airy Neighbors in East Mt. Airy\, Green’s Ladies Golf Club in Sicklerville\, NJ\, Hook & Loop at Carousel House in West Philadelphia\, Lee Cultural Center and Kulu Mele in West Philadelphia\, and North City Congress in North Philadelphia. \nPRECIOUS PLACES COMMUNITY HISTORY PROJECT IS FUNDED BY THE PEOPLE’S MEDIA FUND\, DOLFINGER-MCMAHON FOUNDATION\, AND THE ALSTON BEECH FOUNDATION.
URL:https://gridphilly.com/event/scribes-precious-places-premiere/
LOCATION:Free Library of Philadelphia (Parkway Central Branch)\, 1901 Vine Street\, Philadelphia\, PA\, 19103\, United States
CATEGORIES:Arts & Culture,Family-friendly,Film
ATTACH;FMTTYPE=image/jpeg:https://gridphilly.com/wp-content/uploads/2026/04/DSC03506-3-scaled.jpg
END:VEVENT
BEGIN:VEVENT
DTSTART;TZID=America/New_York:20260603T190000
DTEND;TZID=America/New_York:20260603T210000
DTSTAMP:20260419T181426
CREATED:20260304T220454Z
LAST-MODIFIED:20260304T220454Z
UID:10029980-1780513200-1780520400@gridphilly.com
SUMMARY:INTENSIVE SCREENWRITING WORKSHOP
DESCRIPTION:SIFTMedia Collective presents a 4 week Intensive Screenwriting Workshop with Stephanie Malson – this Workshop is designed to support filmmakers\, whether starting with an initial concept or refining a short or feature-length screenplay. Through deep analysis and communal feedback\, you’ll see your idea or draft develop into a screenplay.
URL:https://gridphilly.com/event/intensive-screenwriting-workshop/2026-06-03/
CATEGORIES:Classes & Workshops,Clean-ups,Film,Food & Drink
ATTACH;FMTTYPE=image/jpeg:https://gridphilly.com/wp-content/uploads/2026/03/Intensive-Screenwriting-Workshop_March_2026_Stephanie-Malson.jpg
ORGANIZER;CN="SIFTMedia 215":MAILTO:siftmedia215@gmail.com
END:VEVENT
BEGIN:VEVENT
DTSTART;TZID=America/New_York:20260608T180000
DTEND;TZID=America/New_York:20260608T200000
DTSTAMP:20260419T181426
CREATED:20260406T171744Z
LAST-MODIFIED:20260406T171744Z
UID:10032117-1780941600-1780948800@gridphilly.com
SUMMARY:cinéSPEAK x Two Locals Brewing Company present Set It Off (30th Anniversary) and Rainbow Girls
DESCRIPTION:Join us for cinéSPEAK x Two Locals Brewing Company present Movie Mondays—a monthly gathering every 2nd Monday celebrating innovative Black filmmakers! \nIn June\, we’re celebrating Pride with queer heist films: F. Gary Gray’s Set It Off (1996) and Nana Duffour’s award-winning short\, Rainbow Girls (2025). Eat the rich! \nEvent Flow:\nEnjoy happy hour at 5-7 PM ($9 sangria\, $1 off beer & wine\, $10 bartender’s special cocktail!) \nFilm at 6-8:30PM (you’ll have fun AND be home and in bed before 10!) \nFood:\nBYO-Dinner (bring your dinner or have it delivered)\nFree movie theater style popcorn by cinéSPEAK \nTickets:\nThis event is free to attend\, however\, if you like what cinéSPEAK does\, please consider donating $5 (or more) to help us cover the costs of film licensing fees and local artist talent. Thank you in advance!
URL:https://gridphilly.com/event/cinespeak-x-two-locals-brewing-company-present-set-it-off-30th-anniversary-and-rainbow-girls/
LOCATION:Two Locals Brewing\, 3675 Market Street\, #Suite 100\, Philadelphia\, PA\, 19104\, United States
CATEGORIES:21+,Arts & Culture,Arts & Performance,Black Owned Business,Community Events,family and kid friendly,Festival,Film,Hands-On Science,LGBTQIA+,Social
ATTACH;FMTTYPE=image/png:https://gridphilly.com/wp-content/uploads/2026/04/rainbow-girls-use-this.png
END:VEVENT
BEGIN:VEVENT
DTSTART;TZID=America/New_York:20260613T120000
DTEND;TZID=America/New_York:20260613T180000
DTSTAMP:20260419T181426
CREATED:20260406T165810Z
LAST-MODIFIED:20260406T165810Z
UID:10032112-1781352000-1781373600@gridphilly.com
SUMMARY:Art For the Cash Poor
DESCRIPTION:Art for the Cash Poor 2026 will be inside and outside! Learn more and connect with our vendors below. \nPurchase works from 100+ artists\, crafters\, and designers both inside the Icebox Project Space and outside the Crane Arts Building! The Art for the Cash Poor festival is an affordable art fair that activates and brings together North American Street’s robust arts corridor.\n‍\nArtist vendors sell original works for $250 or less and local arts and community organizations will provide free programming for visitors that day\, including arts and crafts-making demonstrations\, workshops\, and more! \nArt for the Cash Poor brings together a wide array of visual artists from diverse backgrounds and voices\, celebrating the emerging and established talents in our region. \nArt for the Cash Poor is an affordable art sale that directly benefits visual artists\, designers\, and craftspeople.\n‍\n– All work priced at $250 or less!\n– All proceeds from art sales go directly to the artists.\n– All artwork is an original production the artist.\n‍ \n2026 Vendor call is now open.\nDeadline to apply is Monday\, April 27.
URL:https://gridphilly.com/event/art-for-the-cash-poor/
LOCATION:InLiquid Gallery in the Crane Building\, 1400 North American\, Suit 108\, Philadelphia\, PA\, 19122\, United States
CATEGORIES:Art,Artists' Workshop Series,Arts & Culture,Arts & Performance,Circular Fashion,Classes & Workshops,Classes and Workshops,Community Events,Discussion,family and kid friendly,Family Fun,Family-friendly,Festival,Film,Food & Drink,Hands-On Science,Hybrid Event,Lifelong Learning,Outdoor Event,Social,Special Event,Workshop
ATTACH;FMTTYPE=image/png:https://gridphilly.com/wp-content/uploads/2026/04/Screenshot-2026-04-06-at-12.57.35-PM.png
END:VEVENT
BEGIN:VEVENT
DTSTART;TZID=America/New_York:20260701T190000
DTEND;TZID=America/New_York:20260701T210000
DTSTAMP:20260419T181426
CREATED:20260304T220454Z
LAST-MODIFIED:20260304T220454Z
UID:10029981-1782932400-1782939600@gridphilly.com
SUMMARY:INTENSIVE SCREENWRITING WORKSHOP
DESCRIPTION:SIFTMedia Collective presents a 4 week Intensive Screenwriting Workshop with Stephanie Malson – this Workshop is designed to support filmmakers\, whether starting with an initial concept or refining a short or feature-length screenplay. Through deep analysis and communal feedback\, you’ll see your idea or draft develop into a screenplay.
URL:https://gridphilly.com/event/intensive-screenwriting-workshop/2026-07-01/
CATEGORIES:Classes & Workshops,Clean-ups,Film,Food & Drink
ATTACH;FMTTYPE=image/jpeg:https://gridphilly.com/wp-content/uploads/2026/03/Intensive-Screenwriting-Workshop_March_2026_Stephanie-Malson.jpg
ORGANIZER;CN="SIFTMedia 215":MAILTO:siftmedia215@gmail.com
END:VEVENT
BEGIN:VEVENT
DTSTART;TZID=America/New_York:20260729T190000
DTEND;TZID=America/New_York:20260729T210000
DTSTAMP:20260419T181426
CREATED:20260304T220454Z
LAST-MODIFIED:20260304T220454Z
UID:10029982-1785351600-1785358800@gridphilly.com
SUMMARY:INTENSIVE SCREENWRITING WORKSHOP
DESCRIPTION:SIFTMedia Collective presents a 4 week Intensive Screenwriting Workshop with Stephanie Malson – this Workshop is designed to support filmmakers\, whether starting with an initial concept or refining a short or feature-length screenplay. Through deep analysis and communal feedback\, you’ll see your idea or draft develop into a screenplay.
URL:https://gridphilly.com/event/intensive-screenwriting-workshop/2026-07-29/
CATEGORIES:Classes & Workshops,Clean-ups,Film,Food & Drink
ATTACH;FMTTYPE=image/jpeg:https://gridphilly.com/wp-content/uploads/2026/03/Intensive-Screenwriting-Workshop_March_2026_Stephanie-Malson.jpg
ORGANIZER;CN="SIFTMedia 215":MAILTO:siftmedia215@gmail.com
END:VEVENT
BEGIN:VEVENT
DTSTART;TZID=America/New_York:20260826T190000
DTEND;TZID=America/New_York:20260826T210000
DTSTAMP:20260419T181426
CREATED:20260304T220454Z
LAST-MODIFIED:20260304T220454Z
UID:10029983-1787770800-1787778000@gridphilly.com
SUMMARY:INTENSIVE SCREENWRITING WORKSHOP
DESCRIPTION:SIFTMedia Collective presents a 4 week Intensive Screenwriting Workshop with Stephanie Malson – this Workshop is designed to support filmmakers\, whether starting with an initial concept or refining a short or feature-length screenplay. Through deep analysis and communal feedback\, you’ll see your idea or draft develop into a screenplay.
URL:https://gridphilly.com/event/intensive-screenwriting-workshop/2026-08-26/
CATEGORIES:Classes & Workshops,Clean-ups,Film,Food & Drink
ATTACH;FMTTYPE=image/jpeg:https://gridphilly.com/wp-content/uploads/2026/03/Intensive-Screenwriting-Workshop_March_2026_Stephanie-Malson.jpg
ORGANIZER;CN="SIFTMedia 215":MAILTO:siftmedia215@gmail.com
END:VEVENT
BEGIN:VEVENT
DTSTART;TZID=America/New_York:20260923T190000
DTEND;TZID=America/New_York:20260923T210000
DTSTAMP:20260419T181426
CREATED:20260304T220454Z
LAST-MODIFIED:20260304T220454Z
UID:10029984-1790190000-1790197200@gridphilly.com
SUMMARY:INTENSIVE SCREENWRITING WORKSHOP
DESCRIPTION:SIFTMedia Collective presents a 4 week Intensive Screenwriting Workshop with Stephanie Malson – this Workshop is designed to support filmmakers\, whether starting with an initial concept or refining a short or feature-length screenplay. Through deep analysis and communal feedback\, you’ll see your idea or draft develop into a screenplay.
URL:https://gridphilly.com/event/intensive-screenwriting-workshop/2026-09-23/
CATEGORIES:Classes & Workshops,Clean-ups,Film,Food & Drink
ATTACH;FMTTYPE=image/jpeg:https://gridphilly.com/wp-content/uploads/2026/03/Intensive-Screenwriting-Workshop_March_2026_Stephanie-Malson.jpg
ORGANIZER;CN="SIFTMedia 215":MAILTO:siftmedia215@gmail.com
END:VEVENT
BEGIN:VEVENT
DTSTART;TZID=America/New_York:20261021T190000
DTEND;TZID=America/New_York:20261021T210000
DTSTAMP:20260419T181426
CREATED:20260304T220454Z
LAST-MODIFIED:20260304T220454Z
UID:10029985-1792609200-1792616400@gridphilly.com
SUMMARY:INTENSIVE SCREENWRITING WORKSHOP
DESCRIPTION:SIFTMedia Collective presents a 4 week Intensive Screenwriting Workshop with Stephanie Malson – this Workshop is designed to support filmmakers\, whether starting with an initial concept or refining a short or feature-length screenplay. Through deep analysis and communal feedback\, you’ll see your idea or draft develop into a screenplay.
URL:https://gridphilly.com/event/intensive-screenwriting-workshop/2026-10-21/
CATEGORIES:Classes & Workshops,Clean-ups,Film,Food & Drink
ATTACH;FMTTYPE=image/jpeg:https://gridphilly.com/wp-content/uploads/2026/03/Intensive-Screenwriting-Workshop_March_2026_Stephanie-Malson.jpg
ORGANIZER;CN="SIFTMedia 215":MAILTO:siftmedia215@gmail.com
END:VEVENT
BEGIN:VEVENT
DTSTART;TZID=America/New_York:20261118T190000
DTEND;TZID=America/New_York:20261118T210000
DTSTAMP:20260419T181426
CREATED:20260304T220454Z
LAST-MODIFIED:20260304T220454Z
UID:10029986-1795028400-1795035600@gridphilly.com
SUMMARY:INTENSIVE SCREENWRITING WORKSHOP
DESCRIPTION:SIFTMedia Collective presents a 4 week Intensive Screenwriting Workshop with Stephanie Malson – this Workshop is designed to support filmmakers\, whether starting with an initial concept or refining a short or feature-length screenplay. Through deep analysis and communal feedback\, you’ll see your idea or draft develop into a screenplay.
URL:https://gridphilly.com/event/intensive-screenwriting-workshop/2026-11-18/
CATEGORIES:Classes & Workshops,Clean-ups,Film,Food & Drink
ATTACH;FMTTYPE=image/jpeg:https://gridphilly.com/wp-content/uploads/2026/03/Intensive-Screenwriting-Workshop_March_2026_Stephanie-Malson.jpg
ORGANIZER;CN="SIFTMedia 215":MAILTO:siftmedia215@gmail.com
END:VEVENT
BEGIN:VEVENT
DTSTART;TZID=America/New_York:20261216T190000
DTEND;TZID=America/New_York:20261216T210000
DTSTAMP:20260419T181426
CREATED:20260304T220454Z
LAST-MODIFIED:20260304T220454Z
UID:10029987-1797447600-1797454800@gridphilly.com
SUMMARY:INTENSIVE SCREENWRITING WORKSHOP
DESCRIPTION:SIFTMedia Collective presents a 4 week Intensive Screenwriting Workshop with Stephanie Malson – this Workshop is designed to support filmmakers\, whether starting with an initial concept or refining a short or feature-length screenplay. Through deep analysis and communal feedback\, you’ll see your idea or draft develop into a screenplay.
URL:https://gridphilly.com/event/intensive-screenwriting-workshop/2026-12-16/
CATEGORIES:Classes & Workshops,Clean-ups,Film,Food & Drink
ATTACH;FMTTYPE=image/jpeg:https://gridphilly.com/wp-content/uploads/2026/03/Intensive-Screenwriting-Workshop_March_2026_Stephanie-Malson.jpg
ORGANIZER;CN="SIFTMedia 215":MAILTO:siftmedia215@gmail.com
END:VEVENT
BEGIN:VEVENT
DTSTART;TZID=America/New_York:20270113T190000
DTEND;TZID=America/New_York:20270113T210000
DTSTAMP:20260419T181426
CREATED:20260304T220454Z
LAST-MODIFIED:20260304T220454Z
UID:10029988-1799866800-1799874000@gridphilly.com
SUMMARY:INTENSIVE SCREENWRITING WORKSHOP
DESCRIPTION:SIFTMedia Collective presents a 4 week Intensive Screenwriting Workshop with Stephanie Malson – this Workshop is designed to support filmmakers\, whether starting with an initial concept or refining a short or feature-length screenplay. Through deep analysis and communal feedback\, you’ll see your idea or draft develop into a screenplay.
URL:https://gridphilly.com/event/intensive-screenwriting-workshop/2027-01-13/
CATEGORIES:Classes & Workshops,Clean-ups,Film,Food & Drink
ATTACH;FMTTYPE=image/jpeg:https://gridphilly.com/wp-content/uploads/2026/03/Intensive-Screenwriting-Workshop_March_2026_Stephanie-Malson.jpg
ORGANIZER;CN="SIFTMedia 215":MAILTO:siftmedia215@gmail.com
END:VEVENT
BEGIN:VEVENT
DTSTART;TZID=America/New_York:20270210T190000
DTEND;TZID=America/New_York:20270210T210000
DTSTAMP:20260419T181426
CREATED:20260304T220454Z
LAST-MODIFIED:20260304T220454Z
UID:10029989-1802286000-1802293200@gridphilly.com
SUMMARY:INTENSIVE SCREENWRITING WORKSHOP
DESCRIPTION:SIFTMedia Collective presents a 4 week Intensive Screenwriting Workshop with Stephanie Malson – this Workshop is designed to support filmmakers\, whether starting with an initial concept or refining a short or feature-length screenplay. Through deep analysis and communal feedback\, you’ll see your idea or draft develop into a screenplay.
URL:https://gridphilly.com/event/intensive-screenwriting-workshop/2027-02-10/
CATEGORIES:Classes & Workshops,Clean-ups,Film,Food & Drink
ATTACH;FMTTYPE=image/jpeg:https://gridphilly.com/wp-content/uploads/2026/03/Intensive-Screenwriting-Workshop_March_2026_Stephanie-Malson.jpg
ORGANIZER;CN="SIFTMedia 215":MAILTO:siftmedia215@gmail.com
END:VEVENT
BEGIN:VEVENT
DTSTART;TZID=America/New_York:20270310T190000
DTEND;TZID=America/New_York:20270310T210000
DTSTAMP:20260419T181426
CREATED:20260304T220454Z
LAST-MODIFIED:20260304T220454Z
UID:10029990-1804705200-1804712400@gridphilly.com
SUMMARY:INTENSIVE SCREENWRITING WORKSHOP
DESCRIPTION:SIFTMedia Collective presents a 4 week Intensive Screenwriting Workshop with Stephanie Malson – this Workshop is designed to support filmmakers\, whether starting with an initial concept or refining a short or feature-length screenplay. Through deep analysis and communal feedback\, you’ll see your idea or draft develop into a screenplay.
URL:https://gridphilly.com/event/intensive-screenwriting-workshop/2027-03-10/
CATEGORIES:Classes & Workshops,Clean-ups,Film,Food & Drink
ATTACH;FMTTYPE=image/jpeg:https://gridphilly.com/wp-content/uploads/2026/03/Intensive-Screenwriting-Workshop_March_2026_Stephanie-Malson.jpg
ORGANIZER;CN="SIFTMedia 215":MAILTO:siftmedia215@gmail.com
END:VEVENT
END:VCALENDAR