BEGIN:VCALENDAR
VERSION:2.0
PRODID:-//Grid Magazine - ECPv6.15.20//NONSGML v1.0//EN
CALSCALE:GREGORIAN
METHOD:PUBLISH
X-ORIGINAL-URL:https://gridphilly.com
X-WR-CALDESC:Events for Grid Magazine
REFRESH-INTERVAL;VALUE=DURATION:PT1H
X-Robots-Tag:noindex
X-PUBLISHED-TTL:PT1H
BEGIN:VTIMEZONE
TZID:America/New_York
BEGIN:DAYLIGHT
TZOFFSETFROM:-0500
TZOFFSETTO:-0400
TZNAME:EDT
DTSTART:20250309T070000
END:DAYLIGHT
BEGIN:STANDARD
TZOFFSETFROM:-0400
TZOFFSETTO:-0500
TZNAME:EST
DTSTART:20251102T060000
END:STANDARD
BEGIN:DAYLIGHT
TZOFFSETFROM:-0500
TZOFFSETTO:-0400
TZNAME:EDT
DTSTART:20260308T070000
END:DAYLIGHT
BEGIN:STANDARD
TZOFFSETFROM:-0400
TZOFFSETTO:-0500
TZNAME:EST
DTSTART:20261101T060000
END:STANDARD
BEGIN:DAYLIGHT
TZOFFSETFROM:-0500
TZOFFSETTO:-0400
TZNAME:EDT
DTSTART:20270314T070000
END:DAYLIGHT
BEGIN:STANDARD
TZOFFSETFROM:-0400
TZOFFSETTO:-0500
TZNAME:EST
DTSTART:20271107T060000
END:STANDARD
END:VTIMEZONE
BEGIN:VEVENT
DTSTART;TZID=America/New_York:20260426T120000
DTEND;TZID=America/New_York:20260426T170000
DTSTAMP:20260419T175754
CREATED:20260326T021505Z
LAST-MODIFIED:20260326T021505Z
UID:10030455-1777204800-1777222800@gridphilly.com
SUMMARY:Flavors on the Avenue
DESCRIPTION:South Philadelphia’s top festival for food & culture is back and bigger than ever before! Flavors on the Avenue returns to East Passyunk Avenue on Sunday\, April 26\, 2026 from 12:00 p.m. to 5:00 p.m. with 150+ vendors and five blocks of food\, drinks\, live music\, and fun for folks of all ages! Savor mouth-watering bites from local hotspots while enjoying live music across four vibrant stages. Explore sidewalk sales\, local retailers\, and craft vendors showcasing unique clothing\, home décor\, art\, accessories\, and more! Spanning East Passyunk Avenue from Broad Street to Dickinson Street\, don’t miss out on the perfect blend of food\, art\, and local flair!\nFlavors programming will include street eats from nearly 50 restaurants and vendors on and off the Avenue\, multiple stages and other roaming live entertainment\, limited edition Flavors merch\, a Flavors Kids’ Zone with interactive activities\, and inflatable soccer games from the Philadelphia Union. Explore the whole festival footprint to enjoy outdoor cuisine from award-winner Sao\, dollar dogs from Watkins Drinkery\, Hong Kong egg waffles with classic & Asian-inspired ice cream from Sunny Scoop\, a Farm Fresh Market for all ages filled with your favorite plushie fruits & veggies from Tildie’s Toy Box\, and a pop-up bar collaboration with pizza and draft beer from Pizzata Birreria and Peroni. A full list of local businesses and vendors can be viewed on the East Passyunk Avenue website.\nHosted by the East Passyunk Avenue Business Improvement District (EPABID)\, this annual festival is free-to-attend and pay-as-you-go. “Flavors on the Avenue is the annual kick-off for festival season in Philadelphia\, and we’re committed to showcasing not just our vibrant business community\, but local artists\, creators\, and performers\,” says EPABID Executive Director Katie Hanford. “This year\, as Philadelphia takes center stage both nationally and internationally\, we are proud to present Flavors as a testament to the creativity and uniqueness of South Philly\, especially here on East Passyunk Avenue.”\nFlavors on the Avenue is a long-running street festival\, now in its 16th year\, that supports local small businesses while providing many tastes of Philadelphia’s vibrant global cuisine scene. Savor the flavors in our historic neighborhood while you enjoy performances by local artists\, shop with creative vendors\, and participate in fun activities!\nThis event would not be possible without our sponsors: Stateside Brands\, Century 21 Forrester Real Estate\, Frame Fatale\, Milk Jawn\, Tildie’s Toy Box\, Peroni\, State Farm\, Headhunters Hair Design\, Elite Environmental\, Passyunk Avenue Revitalization Corporation\, and Samuels and Son Seafood.\nFlavors on the Avenue is presented by the East Passyunk Avenue Business Improvement District. More information is available at the East Passyunk Avenue Business Improvement District website. For more information on East Passyunk Avenue\, explore www.visiteastpassyunk.com and follow EPABID on Instagram and Facebook. For media and press inquiries\, please reach out to Sarah Cowell at sarah@kscopephilly.com.
URL:https://gridphilly.com/event/flavors-on-the-avenue-2/
LOCATION:East Passyunk Avenue\, East Passyunk Avenue\, Philadelphia\, PA\, United States
CATEGORIES:Festival,Food & Drink
ATTACH;FMTTYPE=image/png:https://gridphilly.com/wp-content/uploads/2026/03/Screenshot-2026-03-25-at-10.14.20-PM.png
END:VEVENT
BEGIN:VEVENT
DTSTART;TZID=America/New_York:20260516T120000
DTEND;TZID=America/New_York:20260516T160000
DTSTAMP:20260419T175754
CREATED:20260406T171024Z
LAST-MODIFIED:20260406T171024Z
UID:10032115-1778932800-1778947200@gridphilly.com
SUMMARY:EcoFair 2026
DESCRIPTION:Embark on an immersive journey into sustainability at EcoFair\, Green Philly’s third annual family-friendly event showcasing the region’s eco-resources and initiatives driving positive change. Enjoy a day packed with eye-opening insights and actionable ideas with: \nInspiring and educational programming featuring storytelling and workshops.\n-Recycle your unwanted or used clothing & textiles with The Wardrobe\n-Art activations by Walls for Justice.\n-Sustainable Marketplace: Shop eco-alternatives for your home and life from local makers and businesses.\n-Discover how to take action and get involved with local nonprofits.\n-Meet and network with other sustainably-minded friends \nWhether you’re passionate about making a positive impact on the planet or simply looking for a fun and educational experience\, EcoFair has something for everyone. Secure your spot now and be part of the movement towards a greener future!
URL:https://gridphilly.com/event/ecofair-2026/
LOCATION:Cherry Street Pier\, 121 North Christopher Columbus Boulevard\, Philadelphia\, PA\, 19106\, United States
CATEGORIES:Community Events,family and kid friendly,Family Fun,Family-friendly,Festival,Film,Food & Drink,Hands-On Science,Hybrid Event,Lifelong Learning,Outdoor Event,Social,Special Event,Workshop
ATTACH;FMTTYPE=image/png:https://gridphilly.com/wp-content/uploads/2026/04/2026-Events-Graphics-LinkedIn-Post.png
END:VEVENT
BEGIN:VEVENT
DTSTART;TZID=America/New_York:20260516T120000
DTEND;TZID=America/New_York:20260516T170000
DTSTAMP:20260419T175754
CREATED:20251126T172939Z
LAST-MODIFIED:20251126T172939Z
UID:10025196-1778932800-1778950800@gridphilly.com
SUMMARY:Winetober Fest Spring Edition
DESCRIPTION:Enjoy the vibrant spirit of spring as we bring the full excitement of the season to life. This event showcases some of Pennsylvania’s finest wineries and distilleries\, complemented by a variety of food trucks and abundant shopping opportunities. \n📅 Date: Saturday\, May 16\, 2026\n🕐 Time: 12:00 PM – 5:00 PM\n📍 Location: Skippack Village\, 4039 Skippack Pike\, Skippack\, PA 19474
URL:https://gridphilly.com/event/winetober-fest-spring-edition/
LOCATION:skippack\, 4039 Skippack Pike\, Skippack PA 19044\, PA\, 19474\, United States
CATEGORIES:Festival,Food & Drink
ATTACH;FMTTYPE=image/jpeg:https://gridphilly.com/wp-content/uploads/2025/11/Spring-26-Ad.jpg
END:VEVENT
BEGIN:VEVENT
DTSTART;TZID=America/New_York:20260530T110000
DTEND;TZID=America/New_York:20260530T130000
DTSTAMP:20260419T175754
CREATED:20260406T165408Z
LAST-MODIFIED:20260406T165408Z
UID:10032111-1780138800-1780146000@gridphilly.com
SUMMARY:Intro to Handbag Construction
DESCRIPTION:Master the intersection of relaxed silhouettes and functional design by constructing a custom slouch bag. This hands-on session will dive into the pattern making\, construction\, and finishing of a boutique-quality accessory. \nThis workshop is for intermediate sewists who have basic machine and pattern-making confidence and are ready to dive into accessory construction and professional-grade assembly. \nParticipants will learn how to construct a slouch bag\, execute professional assembly\, and master finishing techniques including inset linings\, facings\, and hardware closures. \nParticipants will walk away with a custom\, high-fashion slouch bag and the technical expertise to replicate professional accessory designs for their own handmade wardrobe.
URL:https://gridphilly.com/event/intro-to-handbag-construction/
LOCATION:The Arts League\, 4226 Spruce Street\, Philadelphia\, PA\, 19104\, United States
CATEGORIES:Artists' Workshop Series,Circular Fashion,Classes & Workshops,Classes and Workshops,Community Events,Discussion,family and kid friendly,Family Fun,Family-friendly,Festival,Film,Food & Drink,Hands-On Science,Hybrid Event,Lifelong Learning,Outdoor Event,Social,Special Event,Workshop
ATTACH;FMTTYPE=image/png:https://gridphilly.com/wp-content/uploads/2026/04/Untitled-design-14.png
ORGANIZER;CN="Jewel Moser":MAILTO:moser.jewel@gmail.com
END:VEVENT
BEGIN:VEVENT
DTSTART;TZID=America/New_York:20260608T180000
DTEND;TZID=America/New_York:20260608T200000
DTSTAMP:20260419T175754
CREATED:20260406T171744Z
LAST-MODIFIED:20260406T171744Z
UID:10032117-1780941600-1780948800@gridphilly.com
SUMMARY:cinéSPEAK x Two Locals Brewing Company present Set It Off (30th Anniversary) and Rainbow Girls
DESCRIPTION:Join us for cinéSPEAK x Two Locals Brewing Company present Movie Mondays—a monthly gathering every 2nd Monday celebrating innovative Black filmmakers! \nIn June\, we’re celebrating Pride with queer heist films: F. Gary Gray’s Set It Off (1996) and Nana Duffour’s award-winning short\, Rainbow Girls (2025). Eat the rich! \nEvent Flow:\nEnjoy happy hour at 5-7 PM ($9 sangria\, $1 off beer & wine\, $10 bartender’s special cocktail!) \nFilm at 6-8:30PM (you’ll have fun AND be home and in bed before 10!) \nFood:\nBYO-Dinner (bring your dinner or have it delivered)\nFree movie theater style popcorn by cinéSPEAK \nTickets:\nThis event is free to attend\, however\, if you like what cinéSPEAK does\, please consider donating $5 (or more) to help us cover the costs of film licensing fees and local artist talent. Thank you in advance!
URL:https://gridphilly.com/event/cinespeak-x-two-locals-brewing-company-present-set-it-off-30th-anniversary-and-rainbow-girls/
LOCATION:Two Locals Brewing\, 3675 Market Street\, #Suite 100\, Philadelphia\, PA\, 19104\, United States
CATEGORIES:21+,Arts & Culture,Arts & Performance,Black Owned Business,Community Events,family and kid friendly,Festival,Film,Hands-On Science,LGBTQIA+,Social
ATTACH;FMTTYPE=image/png:https://gridphilly.com/wp-content/uploads/2026/04/rainbow-girls-use-this.png
END:VEVENT
BEGIN:VEVENT
DTSTART;TZID=America/New_York:20260613T120000
DTEND;TZID=America/New_York:20260613T180000
DTSTAMP:20260419T175754
CREATED:20260406T165810Z
LAST-MODIFIED:20260406T165810Z
UID:10032112-1781352000-1781373600@gridphilly.com
SUMMARY:Art For the Cash Poor
DESCRIPTION:Art for the Cash Poor 2026 will be inside and outside! Learn more and connect with our vendors below. \nPurchase works from 100+ artists\, crafters\, and designers both inside the Icebox Project Space and outside the Crane Arts Building! The Art for the Cash Poor festival is an affordable art fair that activates and brings together North American Street’s robust arts corridor.\n‍\nArtist vendors sell original works for $250 or less and local arts and community organizations will provide free programming for visitors that day\, including arts and crafts-making demonstrations\, workshops\, and more! \nArt for the Cash Poor brings together a wide array of visual artists from diverse backgrounds and voices\, celebrating the emerging and established talents in our region. \nArt for the Cash Poor is an affordable art sale that directly benefits visual artists\, designers\, and craftspeople.\n‍\n– All work priced at $250 or less!\n– All proceeds from art sales go directly to the artists.\n– All artwork is an original production the artist.\n‍ \n2026 Vendor call is now open.\nDeadline to apply is Monday\, April 27.
URL:https://gridphilly.com/event/art-for-the-cash-poor/
LOCATION:InLiquid Gallery in the Crane Building\, 1400 North American\, Suit 108\, Philadelphia\, PA\, 19122\, United States
CATEGORIES:Art,Artists' Workshop Series,Arts & Culture,Arts & Performance,Circular Fashion,Classes & Workshops,Classes and Workshops,Community Events,Discussion,family and kid friendly,Family Fun,Family-friendly,Festival,Film,Food & Drink,Hands-On Science,Hybrid Event,Lifelong Learning,Outdoor Event,Social,Special Event,Workshop
ATTACH;FMTTYPE=image/png:https://gridphilly.com/wp-content/uploads/2026/04/Screenshot-2026-04-06-at-12.57.35-PM.png
END:VEVENT
BEGIN:VEVENT
DTSTART;TZID=America/New_York:20260823T120000
DTEND;TZID=America/New_York:20260823T200000
DTSTAMP:20260419T175754
CREATED:20260407T190506Z
LAST-MODIFIED:20260407T190506Z
UID:10031149-1787486400-1787515200@gridphilly.com
SUMMARY:Ukrainian Folk Festival 2026
DESCRIPTION:UKRAINIAN FOLK FESTIVAL & SUMMER CONCERT 2026\nCelebrate the enduring\, vibrant culture of a people that fights for freedom!\nCelebrate America’s 250th Birthday \nHorsham\, PA – Sunday\, August 23; 12:00 – 8:00 PM. The Ukrainian Folk Festival & Summer Concert 2026 will be held at the Ukrainian American Sport Center (www.tryzub.org)\, County Line and Lower State Roads\, Horsham\, PA. \nExciting\, spectacular\, dazzling\, breathtaking\, exhilarating\, spirited\, soulful\, enchanting\, captivating\, and intriguing – modest words which describe but by no means capture the essence of Ukrainian folk art\, music\, song and dance. From the rich color and deep symbolism of the delicate “pysanka” (Ukrainian Easter Egg) to the thunderous\, power\, rhythm and strength of “HOPAK” – the world’s most exciting ethnic dance\, and every brilliant “Kolomiyka” (polka) and soulful folk song in between\, experience the UKRAINIAN FOLK FESTIVAL 2026\, celebrating the 35th anniversary of our ancestral homeland’s independence. Enjoy an outdoor summer stage concert and show (1:30 to 4:30 PM)\, live orchestra music (4:30 – 8:00 PM)\, traditional Ukrainian foods and baked goods\, BBQ pit\, standard picnic fare\, vendors grove\, arts and crafts displays and bazaar\, cool adult and soft refreshments\, Live exhibitors of Ukrainian history and Ukrainian hospitality.\n“A CELEBRATION OF LIBERTY AND UNITY”\nA Resplendent Outdoor Summer Concert (1:30 to 4:30 pm) Marking Ukraine’s Independence\, the Unity of her People\, and their Gallant Twilight Struggle for Freedom\, Prosperity and Dignity\nThe artists (dance troupes\, musicians\, singers and ensembles that have performed in previous years) have created a dynamic and integrated collaborative program. \nFEATURED PERFORMERS\nHROMOVYTSIA Ukrainian Dance Ensemble\nVOLOSHKY Ukrainian Dance Ensemble\nSPIRIT OF THE DANCE Ukrainian Dance Ensemble\nSinger-Songwriter SHANIS (the Ukrainian Voice of Disney’s Elsa in Frozen\nViolinist INNESA Tymochko Dekajlo\nVOX ETHNIKA BAND\nLive Exhibitors of Ukrainian History \nLive Orchestra-Band Dance music – Ukrainian\, traditional\, rock and modern – by VOX ETHNIKA BAND will follow the stage concert and show (4:30 – 8:00 PM). \nAdmission (Tickets at Gate Only! Open to General Public!): $20 ($2 of each paid admission donated to Humanitarian Relief of Victims of War in Ukraine); children < 15 Free; FREE PARKING – some offsite (details on website). Info: info@tryzub.org\, or www.tryzub.org.
URL:https://gridphilly.com/event/ukrainian-folk-festival-2026/
LOCATION:Ukrainian American Sport Center\, 1 Lower State Road\, North Wales\, P\, 19454\, United States
CATEGORIES:Art,Arts & Culture,arts & entertainment,Arts & Performance,Community Events,Concert,Event,Festival,Food,Food & Drink,General Events,Outdoor Event,Public Events
ATTACH;FMTTYPE=image/jpeg:https://gridphilly.com/wp-content/uploads/2026/04/2025-Voloshky-Split-Jump-cropped.jpg
ORGANIZER;CN="Ukrainian American Sport Center":MAILTO:info@tryzub,org
END:VEVENT
BEGIN:VEVENT
DTSTART;TZID=America/New_York:20261024T090000
DTEND;TZID=America/New_York:20261025T160000
DTSTAMP:20260419T175754
CREATED:20260112T151204Z
LAST-MODIFIED:20260112T151204Z
UID:10028296-1792832400-1792944000@gridphilly.com
SUMMARY:Pennsylvania Chocolate and Coffee Festival
DESCRIPTION:Sip\, Sample\, and Shop! Indulge your senses at the Pennsylvania Chocolate and Coffee Festival. The premier gathering for coffee lovers\, chocolate enthusiasts\, and local craft supporters. Join us at the Greater Philadelphia Expo Center for a weekend showcasing a curated selection of craft chocolate and specialty coffee available for you to sample and savor. Explore over 150 vendors\, meet our festival mascots Chunk and Bean\, engage in interactive seminars and demos\, and enjoy a family-friendly atmosphere designed for the ultimate “treat yourself” weekend. \nSaturday 9am-10am VIP HOUR\nSaturday 10am-5pm General Admission and VIP\nSunday 10am-4pm General Admission and VIP
URL:https://gridphilly.com/event/pennsylvania-chocolate-and-coffee-festival-2/
LOCATION:Greater Philadelphia Expo Center\, 100 Station Ave\, Oaks\, 19456\, United States
CATEGORIES:Coffee Hours,Event,Events,Family Fun,Festival,General Events
ATTACH;FMTTYPE=image/jpeg:https://gridphilly.com/wp-content/uploads/2026/01/IMG_9746.CR2_.jpg
ORGANIZER;CN="Pathway Vendors":MAILTO:hello@pachocolateandcoffee.com
END:VEVENT
END:VCALENDAR