BEGIN:VCALENDAR
VERSION:2.0
PRODID:-//Grid Magazine - ECPv6.15.20//NONSGML v1.0//EN
CALSCALE:GREGORIAN
METHOD:PUBLISH
X-ORIGINAL-URL:https://gridphilly.com
X-WR-CALDESC:Events for Grid Magazine
REFRESH-INTERVAL;VALUE=DURATION:PT1H
X-Robots-Tag:noindex
X-PUBLISHED-TTL:PT1H
BEGIN:VTIMEZONE
TZID:America/New_York
BEGIN:DAYLIGHT
TZOFFSETFROM:-0500
TZOFFSETTO:-0400
TZNAME:EDT
DTSTART:20250309T070000
END:DAYLIGHT
BEGIN:STANDARD
TZOFFSETFROM:-0400
TZOFFSETTO:-0500
TZNAME:EST
DTSTART:20251102T060000
END:STANDARD
BEGIN:DAYLIGHT
TZOFFSETFROM:-0500
TZOFFSETTO:-0400
TZNAME:EDT
DTSTART:20260308T070000
END:DAYLIGHT
BEGIN:STANDARD
TZOFFSETFROM:-0400
TZOFFSETTO:-0500
TZNAME:EST
DTSTART:20261101T060000
END:STANDARD
BEGIN:DAYLIGHT
TZOFFSETFROM:-0500
TZOFFSETTO:-0400
TZNAME:EDT
DTSTART:20270314T070000
END:DAYLIGHT
BEGIN:STANDARD
TZOFFSETFROM:-0400
TZOFFSETTO:-0500
TZNAME:EST
DTSTART:20271107T060000
END:STANDARD
END:VTIMEZONE
BEGIN:VEVENT
DTSTART;TZID=America/New_York:20260519T080000
DTEND;TZID=America/New_York:20260519T150000
DTSTAMP:20260419T192737
CREATED:20260408T021505Z
LAST-MODIFIED:20260408T021505Z
UID:10032154-1779177600-1779202800@gridphilly.com
SUMMARY:Day-Off Camp
DESCRIPTION:When schools are closed\, we are open! Keep curious young minds and busy bodies active with the Schuylkill Center Day-Off Camp. Trained educators lead students grades K-6 on unique nature-themed explorations that take advantage of our science lab\, Discovery Center\, and 365 acres of beautiful wooded trails\, streams\, and ponds.\nPlease bring a packed lunch\, water bottle and an extra set of clothes. Wear weather-appropriate clothing that can get dirty. Space is limited to 30 campers. Sign up early to guarantee your spot. The deadline to register for this event is Sunday\, May 17 at 4pm.\nHours:\nDay Off Camp Hours: 8:00 am–3:00 pm\nAftercare Hours: 3:00pm -6:00pm\nDaily Fee:\nSchuylkill Center Members: $80\nNon-members: $90\nAftercare: $20\nRegister Now\n \nDo you love Day-Off Camp? Consider signing up for a summer of adventure with Camp Schuylkill! Click here to learn more about our summer camp. 
URL:https://gridphilly.com/event/day-off-camp-38/
LOCATION:The Schuylkill Center for Environmental Education\, 8480 Hagys Mill Rd\, Philadelphia\, PA\, United States
CATEGORIES:Children,Day Off Camp
ATTACH;FMTTYPE=image/jpeg:https://gridphilly.com/wp-content/uploads/2026/04/BastiaanSlabbers2023NP-12-UpRxxF.jpg
GEO:40.060478;-75.245017
X-APPLE-STRUCTURED-LOCATION;VALUE=URI;X-ADDRESS=The Schuylkill Center for Environmental Education 8480 Hagys Mill Rd Philadelphia PA United States;X-APPLE-RADIUS=500;X-TITLE=8480 Hagys Mill Rd:geo:-75.245017,40.060478
END:VEVENT
BEGIN:VEVENT
DTSTART;TZID=America/New_York:20260526T080000
DTEND;TZID=America/New_York:20260526T150000
DTSTAMP:20260419T192737
CREATED:20260408T021513Z
LAST-MODIFIED:20260408T021513Z
UID:10032158-1779782400-1779807600@gridphilly.com
SUMMARY:Day-Off Camp
DESCRIPTION:When schools are closed\, we are open! Keep curious young minds and busy bodies active with the Schuylkill Center Day-Off Camp. Trained educators lead students grades K-6 on unique nature-themed explorations that take advantage of our science lab\, Discovery Center\, and 365 acres of beautiful wooded trails\, streams\, and ponds.\nPlease bring a packed lunch\, water bottle and an extra set of clothes. Wear weather-appropriate clothing that can get dirty. Space is limited to 30 campers. Sign up early to guarantee your spot. The deadline to register for this event is Sunday\, May 24 at 4pm.\nHours:\nDay Off Camp Hours: 8:00 am–3:00 pm\nAftercare Hours: 3:00pm -6:00pm\nDaily Fee:\nSchuylkill Center Members: $80\nNon-members: $90\nAftercare: $20\nRegister Now\n \nDo you love Day-Off Camp? Consider signing up for a summer of adventure with Camp Schuylkill! Click here to learn more about our summer camp. 
URL:https://gridphilly.com/event/day-off-camp-39/
LOCATION:The Schuylkill Center for Environmental Education\, 8480 Hagys Mill Rd\, Philadelphia\, PA\, United States
CATEGORIES:Children,Day Off Camp
ATTACH;FMTTYPE=image/jpeg:https://gridphilly.com/wp-content/uploads/2026/04/Farm_RD_5-2-17_026-scaled-fL1Gl6.jpg
GEO:40.060478;-75.245017
X-APPLE-STRUCTURED-LOCATION;VALUE=URI;X-ADDRESS=The Schuylkill Center for Environmental Education 8480 Hagys Mill Rd Philadelphia PA United States;X-APPLE-RADIUS=500;X-TITLE=8480 Hagys Mill Rd:geo:-75.245017,40.060478
END:VEVENT
BEGIN:VEVENT
DTSTART;TZID=America/New_York:20260527T080000
DTEND;TZID=America/New_York:20260527T150000
DTSTAMP:20260419T192737
CREATED:20260408T021518Z
LAST-MODIFIED:20260408T021518Z
UID:10032160-1779868800-1779894000@gridphilly.com
SUMMARY:Day-Off Camp
DESCRIPTION:When schools are closed\, we are open! Keep curious young minds and busy bodies active with the Schuylkill Center Day-Off Camp. Trained educators lead students grades K-6 on unique nature-themed explorations that take advantage of our science lab\, Discovery Center\, and 365 acres of beautiful wooded trails\, streams\, and ponds.\nPlease bring a packed lunch\, water bottle and an extra set of clothes. Wear weather-appropriate clothing that can get dirty. Space is limited to 30 campers. Sign up early to guarantee your spot. The deadline to register for this event is Monday\, May 25 at 4pm.\nHours:\nDay Off Camp Hours: 8:00 am–3:00 pm\nAftercare Hours: 3:00pm -6:00pm\nDaily Fee:\nSchuylkill Center Members: $80\nNon-members: $90\nAftercare: $20\nRegister Now\n \nDo you love Day-Off Camp? Consider signing up for a summer of adventure with Camp Schuylkill! Click here to learn more about our summer camp. 
URL:https://gridphilly.com/event/day-off-camp-40/
LOCATION:The Schuylkill Center for Environmental Education\, 8480 Hagys Mill Rd\, Philadelphia\, PA\, United States
CATEGORIES:Children,Day Off Camp
ATTACH;FMTTYPE=image/jpeg:https://gridphilly.com/wp-content/uploads/2026/04/IMG_1519-scaled-e1736275425511-ctYZc5.jpg
GEO:40.060478;-75.245017
X-APPLE-STRUCTURED-LOCATION;VALUE=URI;X-ADDRESS=The Schuylkill Center for Environmental Education 8480 Hagys Mill Rd Philadelphia PA United States;X-APPLE-RADIUS=500;X-TITLE=8480 Hagys Mill Rd:geo:-75.245017,40.060478
END:VEVENT
END:VCALENDAR