BEGIN:VCALENDAR
VERSION:2.0
PRODID:-//Grid Magazine - ECPv6.15.20//NONSGML v1.0//EN
CALSCALE:GREGORIAN
METHOD:PUBLISH
X-WR-CALNAME:Grid Magazine
X-ORIGINAL-URL:https://gridphilly.com
X-WR-CALDESC:Events for Grid Magazine
REFRESH-INTERVAL;VALUE=DURATION:PT1H
X-Robots-Tag:noindex
X-PUBLISHED-TTL:PT1H
BEGIN:VTIMEZONE
TZID:America/New_York
BEGIN:DAYLIGHT
TZOFFSETFROM:-0500
TZOFFSETTO:-0400
TZNAME:EDT
DTSTART:20230312T070000
END:DAYLIGHT
BEGIN:STANDARD
TZOFFSETFROM:-0400
TZOFFSETTO:-0500
TZNAME:EST
DTSTART:20231105T060000
END:STANDARD
BEGIN:DAYLIGHT
TZOFFSETFROM:-0500
TZOFFSETTO:-0400
TZNAME:EDT
DTSTART:20240310T070000
END:DAYLIGHT
BEGIN:STANDARD
TZOFFSETFROM:-0400
TZOFFSETTO:-0500
TZNAME:EST
DTSTART:20241103T060000
END:STANDARD
BEGIN:DAYLIGHT
TZOFFSETFROM:-0500
TZOFFSETTO:-0400
TZNAME:EDT
DTSTART:20250309T070000
END:DAYLIGHT
BEGIN:STANDARD
TZOFFSETFROM:-0400
TZOFFSETTO:-0500
TZNAME:EST
DTSTART:20251102T060000
END:STANDARD
BEGIN:DAYLIGHT
TZOFFSETFROM:-0500
TZOFFSETTO:-0400
TZNAME:EDT
DTSTART:20260308T070000
END:DAYLIGHT
BEGIN:STANDARD
TZOFFSETFROM:-0400
TZOFFSETTO:-0500
TZNAME:EST
DTSTART:20261101T060000
END:STANDARD
END:VTIMEZONE
BEGIN:VEVENT
DTSTART;TZID=America/New_York:20251115T100000
DTEND;TZID=America/New_York:20251115T120000
DTSTAMP:20260419T220857
CREATED:20251020T141824Z
LAST-MODIFIED:20251020T141824Z
UID:10023554-1763200800-1763208000@gridphilly.com
SUMMARY:Love Your Park Fall Cleanup
DESCRIPTION:Be part of Love Your Park Fall! \nHelp us keep Tacony Creek Park clean and safe! Meet new friends and join neighbors to make Tacony Creek Park the wonderful community green space that our neighborhood deserves. \nAll tools and supplies will be provided\, including work gloves\, snacks\, and water. Please note: restrooms are not available in the park. Please bring a reusable water bottle if you have one. \nPlease register here. \nQuestions? Contact Malcolm Bundy Malcolm@ttfwatershed.org or 215-744-1853. \n  \n\n✅ All cleanup gear provided (gloves\, pickers\, sleds\, trash bags) – but feel free to bring your own gloves if preferred\n🥤 Snacks and water available – bring a reusable water bottle; a water cooler will be on-site for refills\n👟 Wear comfortable clothing & closed-toed shoes\n🚗 Street parking available on-site\n🚻 No restrooms available\n\n 
URL:https://gridphilly.com/event/love-your-park-fall-cleanup-2/
LOCATION:Bingham St & E Ashdale St\, 5180 Bingham St\, Philadelphia\, PA\, 19120\, United States
CATEGORIES:Clean-ups,CreekyCLEAN,Tacony Creek Park Keepers Meeting,Volunteer Opportunities
ATTACH;FMTTYPE=image/png:https://gridphilly.com/wp-content/uploads/2024/11/Untitled-design-2K94d0.tmp_.png
END:VEVENT
BEGIN:VEVENT
DTSTART;TZID=America/New_York:20251011T100000
DTEND;TZID=America/New_York:20251011T120000
DTSTAMP:20260419T220857
CREATED:20250929T141520Z
LAST-MODIFIED:20250929T141520Z
UID:10022449-1760176800-1760184000@gridphilly.com
SUMMARY:Creek Care Day: Tacony Creek Park #CreekyCLEAN!
DESCRIPTION:Join Us for #CreekyCLEAN at Tacony Creek Park!Help keep the park\, trail\, and gateways clean and welcoming for all. \n🧹 When: Every second Saturday of the month📍 Time & Location: To be announced (TBD)📅 RSVP: Opens at the end of the month prior – stay tuned! \nCome out\, meet your neighbors\, and be part of the movement for a cleaner\, greener community! \n\n\n\n🚗 Free street parking available on-site \n\n\n✅ All tools and supplies provided – gloves\, trash bags\, grabbers \n\n\n🥤 Snacks and water provided (Bring your own reusable water bottle if possible!) \n\n\n🚻 Please note: No restrooms available on-site \n\n\nQuestions?Contact: Malcolm Bundy📧 Malcolm@ttfwatershed.org📞 215-744-1853
URL:https://gridphilly.com/event/creek-care-day-tacony-creek-park-creekyclean/
LOCATION:PA
CATEGORIES:Clean-ups,CreekyCLEAN,Featured,Volunteer Opportunities
ATTACH;FMTTYPE=image/png:https://gridphilly.com/wp-content/uploads/2025/09/Philly-Creek-Cleanup-Day-1-QFnZGq.png
END:VEVENT
BEGIN:VEVENT
DTSTART;TZID=America/New_York:20250120T100000
DTEND;TZID=America/New_York:20250120T123000
DTSTAMP:20260419T220857
CREATED:20250109T214931Z
LAST-MODIFIED:20250109T214931Z
UID:10016332-1737367200-1737376200@gridphilly.com
SUMMARY:MLK Day of Service in Tacony Creek Park
DESCRIPTION:Help clean up Tacony Creek Park\, spend time with community and volunteers\, and learn how you can make a difference in our park. \nThe cleanup portion would be from 10 a.m. to 11:30 a.m.\, starting at Bingham & Ashdale St. It would be followed by lunch and a Watershed Jeopardy activity inside New Life Church from 11:30 a.m. to 12:30 p.m. \nAll the cleanup materials and lunch will be provided. \nTo plan for lunch\, please let us know you’re joining. Sign Up Here \nQuestions? Contact Doryan@ttfwatershed.org or call 215.744.1853 \n~~~~~~~~~~Español~~~~~~~~~~~~\nAyuda a limpiar Tacony Creek Park\, pasa el tiempo en comunidad y con voluntarios y aprenda cómo hacer una diferencia en nuestro parque. \nLa parte de limpieza será de 10am a 11:30am comenzando en Bingham y Ashdale St\, seguido por almuerzo y una actividad de Watershed Jeopardy dentro de New Life Church de 11:30am a 12:30pm \nSe proveerá todos los materiales de limpieza y el almuerzo. \nPara planificar el almuerzo\, por favor regístrese aquí \n¿Preguntas? Comuníquese con Doryan@ttfwatershed.org o llame al 215.744.1853 \n 
URL:https://gridphilly.com/event/mlk-day-of-service-in-tacony-creek-park/
LOCATION:Bingham St & E Ashdale St\, 5180 Bingham St\, Philadelphia\, PA\, 19120\, United States
CATEGORIES:Clean-ups,CreekyCLEAN,Featured,Tacony Creek Park Events
ATTACH;FMTTYPE=image/png:https://gridphilly.com/wp-content/uploads/2025/01/25MLK-day-1080-x-600-px-XK8P46.tmp_.png
END:VEVENT
BEGIN:VEVENT
DTSTART;TZID=America/New_York:20241205T110000
DTEND;TZID=America/New_York:20241205T120000
DTSTAMP:20260419T220857
CREATED:20241126T164430Z
LAST-MODIFIED:20241126T164430Z
UID:10015865-1733396400-1733400000@gridphilly.com
SUMMARY:Bennett Compost Cleanup in Tacony Creek Park
DESCRIPTION:Join Bennett Compost to clean Tacony Creek Park and park gateways every Thursday. Let’s support this local business in improving our environment and neighborhood! \nLocation: Meet at Bennett Compost: 5650 Rising Sun Ave\, Philadelphia\, PA 19120 \nTime: 11 am \nAll tools and supplies will be provided. \nQuestions or interest in volunteering? Contact (215) 520-2406 or info@bennettcompost.com
URL:https://gridphilly.com/event/bennett-compost-cleanup-in-tacony-creek-park-33/
LOCATION:5650 Rising Sun Ave\, Philadelphia\, PA 19120\, 5650 Rising Sun Ave\, Philadelphia\, PA\, 19120\, United States
CATEGORIES:Clean-ups,CreekyCLEAN,Tacony Creek Park Keepers Meeting,Volunteer Opportunities
ATTACH;FMTTYPE=image/jpeg:https://gridphilly.com/wp-content/uploads/2023/02/Bennett-Compost-cleanup-2-scaled-Iup74Q.tmp_.jpg
END:VEVENT
BEGIN:VEVENT
DTSTART;TZID=America/New_York:20241114T110000
DTEND;TZID=America/New_York:20241114T120000
DTSTAMP:20260419T220857
CREATED:20241108T192434Z
LAST-MODIFIED:20241108T192434Z
UID:10015613-1731582000-1731585600@gridphilly.com
SUMMARY:Bennett Compost Cleanup in Tacony Creek Park
DESCRIPTION:Join Bennett Compost to clean Tacony Creek Park and park gateways every Thursday. Let’s support this local business in improving our environment and neighborhood! \nLocation: Meet at Bennett Compost: 5650 Rising Sun Ave\, Philadelphia\, PA 19120 \nTime: 11 am \nAll tools and supplies will be provided. \nQuestions or interest in volunteering? Contact (215) 520-2406 or info@bennettcompost.com
URL:https://gridphilly.com/event/bennett-compost-cleanup-in-tacony-creek-park-32/
LOCATION:5650 Rising Sun Ave\, Philadelphia\, PA 19120\, 5650 Rising Sun Ave\, Philadelphia\, PA\, 19120\, United States
CATEGORIES:Clean-ups,CreekyCLEAN,Tacony Creek Park Keepers Meeting,Volunteer Opportunities
ATTACH;FMTTYPE=image/jpeg:https://gridphilly.com/wp-content/uploads/2023/02/Bennett-Compost-cleanup-2-scaled-Iup74Q.tmp_.jpg
END:VEVENT
BEGIN:VEVENT
DTSTART;TZID=America/New_York:20241109T100000
DTEND;TZID=America/New_York:20241109T120000
DTSTAMP:20260419T220857
CREATED:20241108T192350Z
LAST-MODIFIED:20241108T192350Z
UID:10015611-1731146400-1731153600@gridphilly.com
SUMMARY:Love Your Park Fall Cleanup
DESCRIPTION:Be part of Love Your Park Fall! \nHelp us tidy up Tacony Creek Park! Meet new friends and join neighbors as we clean up Tacony Creek Park at the I St. & Ramona Ave. gateway. \nAll tools and supplies\, including work gloves\, snacks\, and water\, will be provided. Please bring a reusable water bottle if you have one. Please note: There are no restrooms available in the park. \nPlease register here. \nQuestions? Contact Malcolm Bundy Malcolm@ttfwatershed.org or 215-744-1853.
URL:https://gridphilly.com/event/love-your-park-fall-cleanup/
LOCATION:I Street & Ramona Avenue\, I Street and Ramona Ave.\, Philadelphia\, PA\, 19124\, United States
CATEGORIES:Clean-ups,CreekyCLEAN,Tacony Creek Park Keepers Meeting,Volunteer Opportunities
ATTACH;FMTTYPE=image/png:https://gridphilly.com/wp-content/uploads/2024/11/Untitled-design-2K94d0.tmp_.png
END:VEVENT
BEGIN:VEVENT
DTSTART;TZID=America/New_York:20241023T110000
DTEND;TZID=America/New_York:20241023T120000
DTSTAMP:20260419T220857
CREATED:20241011T170219Z
LAST-MODIFIED:20241011T170219Z
UID:10015051-1729681200-1729684800@gridphilly.com
SUMMARY:Bennett Compost Cleanup in Tacony Creek Park
DESCRIPTION:Join Bennett Compost to clean Tacony Creek Park and park gateways every Wednesday. Let’s support this local business in improving our environment and neighborhood! \nLocation: Meet at Bennett Compost: 5650 Rising Sun Ave\, Philadelphia\, PA 19120 \nTime: 11am \nAll tools and supplies will be provided. \nQuestions or interested in volunteering? Contact (215) 520-2406 or info@bennettcompost.com
URL:https://gridphilly.com/event/bennett-compost-cleanup-in-tacony-creek-park-31/
LOCATION:5650 Rising Sun Ave\, Philadelphia\, PA 19120\, 5650 Rising Sun Ave\, Philadelphia\, PA\, 19120\, United States
CATEGORIES:Clean-ups,CreekyCLEAN,Tacony Creek Park Keepers Meeting,Volunteer Opportunities
ATTACH;FMTTYPE=image/jpeg:https://gridphilly.com/wp-content/uploads/2023/02/Bennett-Compost-cleanup-2-scaled-Iup74Q.tmp_.jpg
END:VEVENT
BEGIN:VEVENT
DTSTART;TZID=America/New_York:20241016T110000
DTEND;TZID=America/New_York:20241016T120000
DTSTAMP:20260419T220857
CREATED:20241011T170042Z
LAST-MODIFIED:20241011T170042Z
UID:10015049-1729076400-1729080000@gridphilly.com
SUMMARY:Bennett Compost Cleanup in Tacony Creek Park
DESCRIPTION:Join Bennett Compost to clean Tacony Creek Park and park gateways every Wednesday. Let’s support this local business in improving our environment and neighborhood! \nLocation: Meet at Bennett Compost: 5650 Rising Sun Ave\, Philadelphia\, PA 19120 \nTime: 11am \nAll tools and supplies will be provided. \nQuestions or interested in volunteering? Contact (215) 520-2406 or info@bennettcompost.com
URL:https://gridphilly.com/event/bennett-compost-cleanup-in-tacony-creek-park-30/
LOCATION:5650 Rising Sun Ave\, Philadelphia\, PA 19120\, 5650 Rising Sun Ave\, Philadelphia\, PA\, 19120\, United States
CATEGORIES:Clean-ups,CreekyCLEAN,Tacony Creek Park Keepers Meeting,Volunteer Opportunities
ATTACH;FMTTYPE=image/jpeg:https://gridphilly.com/wp-content/uploads/2023/02/Bennett-Compost-cleanup-2-scaled-Iup74Q.tmp_.jpg
END:VEVENT
BEGIN:VEVENT
DTSTART;TZID=America/New_York:20240925T110000
DTEND;TZID=America/New_York:20240925T120000
DTSTAMP:20260419T220857
CREATED:20240904T142406Z
LAST-MODIFIED:20240904T142406Z
UID:10014409-1727262000-1727265600@gridphilly.com
SUMMARY:Bennett Compost Cleanup in Tacony Creek Park
DESCRIPTION:Join Bennett Compost to clean Tacony Creek Park and park gateways every Wednesday. Let’s support this local business in improving our environment and neighborhood! \nLocation: Meet at Bennett Compost: 5650 Rising Sun Ave\, Philadelphia\, PA 19120 \nTime: 11am \nAll tools and supplies will be provided. \nQuestions or interested in volunteering? Contact (215) 520-2406 or info@bennettcompost.com
URL:https://gridphilly.com/event/bennett-compost-cleanup-in-tacony-creek-park-29/
LOCATION:5650 Rising Sun Ave\, Philadelphia\, PA 19120\, 5650 Rising Sun Ave\, Philadelphia\, PA\, 19120\, United States
CATEGORIES:Clean-ups,CreekyCLEAN,Tacony Creek Park Keepers Meeting,Volunteer Opportunities
ATTACH;FMTTYPE=image/jpeg:https://gridphilly.com/wp-content/uploads/2023/02/Bennett-Compost-cleanup-2-scaled-Iup74Q.tmp_.jpg
END:VEVENT
BEGIN:VEVENT
DTSTART;TZID=America/New_York:20240911T110000
DTEND;TZID=America/New_York:20240911T120000
DTSTAMP:20260419T220857
CREATED:20240904T141007Z
LAST-MODIFIED:20240904T141007Z
UID:10014404-1726052400-1726056000@gridphilly.com
SUMMARY:Bennett Compost Cleanup in Tacony Creek Park
DESCRIPTION:Join Bennett Compost to clean Tacony Creek Park and park gateways every Wednesday. Let’s support this local business in improving our environment and neighborhood! \nLocation: Meet at Bennett Compost: 5650 Rising Sun Ave\, Philadelphia\, PA 19120 \nTime: 11am \nAll tools and supplies will be provided. \nQuestions or interested in volunteering? Contact (215) 520-2406 or info@bennettcompost.com
URL:https://gridphilly.com/event/bennett-compost-cleanup-in-tacony-creek-park-28/
LOCATION:5650 Rising Sun Ave\, Philadelphia\, PA 19120\, 5650 Rising Sun Ave\, Philadelphia\, PA\, 19120\, United States
CATEGORIES:Clean-ups,CreekyCLEAN,Tacony Creek Park Keepers Meeting,Volunteer Opportunities
ATTACH;FMTTYPE=image/jpeg:https://gridphilly.com/wp-content/uploads/2023/02/Bennett-Compost-cleanup-2-scaled-Iup74Q.tmp_.jpg
END:VEVENT
BEGIN:VEVENT
DTSTART;TZID=America/New_York:20240817T090000
DTEND;TZID=America/New_York:20240817T110000
DTSTAMP:20260419T220857
CREATED:20240807T171107Z
LAST-MODIFIED:20240807T181729Z
UID:10013876-1723885200-1723892400@gridphilly.com
SUMMARY:#CreekyCLEAN! Tacony Park Kick-off
DESCRIPTION:Neighbors! Tired of the tires?! Upset about dumping in the park? Join us for the #CreekyCLEAN! Tacony Park Kick-off Weekend Clean Party on 08/17/2024 and help us transform Whitaker Gateway into a cleaner\, greener space! 🌿 Together\, we can make a difference and reclaim our beautiful park. \nTo kick off our #CreakyCLEAN Tacony Park campaign TTF Watershed is partnering with Parks & Recreation and our park neighbors along Tampa Street to reclaim this gateway from years of short dumping of overgrowth. \nStreet parking is available on-site. We will provide gloves and all the tools/supplies\, such as trash bags and trash grabbers. We’ll also provide snacks and water to volunteers. Please bring a reusable water bottle if you have one. \nWhen:\n \n08/17/2024  9 AM-11 AM \nWhere: \nWhitaker Gateway  Whitaker Ave & E. Loudon Street\, Philadelphia\, PA 19120 \n👉  Click HERE to Register
URL:https://gridphilly.com/event/creekyclean-tacony-park-kick-off/
LOCATION:Tacony Creek Park – Whitaker Avenue & East Loudon Street Gateway\, Whitaker Avenue and East Loudon Street\, Philadelphia\, PA\, 19120\, United States
CATEGORIES:Clean-ups,CreekyCLEAN,Volunteer Opportunities
ATTACH;FMTTYPE=image/png:https://gridphilly.com/wp-content/uploads/2024/08/Kick-off-E386Ym.tmp_.png
ORGANIZER;CN="TTF Watershed Partnership":MAILTO:info@ttfwatershed.org
END:VEVENT
END:VCALENDAR