BEGIN:VCALENDAR
VERSION:2.0
PRODID:-//Grid Magazine - ECPv6.15.20//NONSGML v1.0//EN
CALSCALE:GREGORIAN
METHOD:PUBLISH
X-WR-CALNAME:Grid Magazine
X-ORIGINAL-URL:https://gridphilly.com
X-WR-CALDESC:Events for Grid Magazine
REFRESH-INTERVAL;VALUE=DURATION:PT1H
X-Robots-Tag:noindex
X-PUBLISHED-TTL:PT1H
BEGIN:VTIMEZONE
TZID:America/New_York
BEGIN:DAYLIGHT
TZOFFSETFROM:-0500
TZOFFSETTO:-0400
TZNAME:EDT
DTSTART:20230312T070000
END:DAYLIGHT
BEGIN:STANDARD
TZOFFSETFROM:-0400
TZOFFSETTO:-0500
TZNAME:EST
DTSTART:20231105T060000
END:STANDARD
BEGIN:DAYLIGHT
TZOFFSETFROM:-0500
TZOFFSETTO:-0400
TZNAME:EDT
DTSTART:20240310T070000
END:DAYLIGHT
BEGIN:STANDARD
TZOFFSETFROM:-0400
TZOFFSETTO:-0500
TZNAME:EST
DTSTART:20241103T060000
END:STANDARD
BEGIN:DAYLIGHT
TZOFFSETFROM:-0500
TZOFFSETTO:-0400
TZNAME:EDT
DTSTART:20250309T070000
END:DAYLIGHT
BEGIN:STANDARD
TZOFFSETFROM:-0400
TZOFFSETTO:-0500
TZNAME:EST
DTSTART:20251102T060000
END:STANDARD
BEGIN:DAYLIGHT
TZOFFSETFROM:-0500
TZOFFSETTO:-0400
TZNAME:EDT
DTSTART:20260308T070000
END:DAYLIGHT
BEGIN:STANDARD
TZOFFSETFROM:-0400
TZOFFSETTO:-0500
TZNAME:EST
DTSTART:20261101T060000
END:STANDARD
BEGIN:DAYLIGHT
TZOFFSETFROM:-0500
TZOFFSETTO:-0400
TZNAME:EDT
DTSTART:20270314T070000
END:DAYLIGHT
BEGIN:STANDARD
TZOFFSETFROM:-0400
TZOFFSETTO:-0500
TZNAME:EST
DTSTART:20271107T060000
END:STANDARD
END:VTIMEZONE
BEGIN:VEVENT
DTSTART;TZID=America/New_York:20260408T190000
DTEND;TZID=America/New_York:20260408T200000
DTSTAMP:20260421T110145
CREATED:20260316T170504Z
LAST-MODIFIED:20260316T170504Z
UID:10030263-1775674800-1775678400@gridphilly.com
SUMMARY:The Future of Local Clean Energy: Community-funded\, Community-owned
DESCRIPTION:Your Money\, Your Power: Finance Local Solar in PA Ready to see your investments make a tangible difference in your backyard? While big developers overlook smaller projects\, the Clean Energy Co-op is stepping in to bridge the gap. We’re harnessing the power of many small investors working together to bring renewable energy projects to fruition. We empower Pennsylvania residents to collectively fund solar installations for the organizations that anchor our communities—nonprofits\, co-ops\, and local community-beneficial businesses. Proven Success: 8 completed projects and counting. Big Momentum: We are currently funding our largest installation to date. Community First: 100% volunteer-run and member-owned.
URL:https://gridphilly.com/event/the-future-of-local-clean-energy-community-funded-community-owned-2/
LOCATION:Zoom\, Online Only
CATEGORIES:Clean Energy,Community Events,Event,family and kid friendly,Free,Outdoor Event,Solar
ATTACH;FMTTYPE=image/png:https://gridphilly.com/wp-content/uploads/2026/03/Directly-expand-local-renewable-energy-4.875-x-4.875-in-3.png
ORGANIZER;CN="The Clean Energy Co-op":MAILTO:cleanenergycoopsepa@gmail.com
END:VEVENT
BEGIN:VEVENT
DTSTART;TZID=America/New_York:20260319T190000
DTEND;TZID=America/New_York:20260319T200000
DTSTAMP:20260421T110145
CREATED:20260316T165418Z
LAST-MODIFIED:20260316T165418Z
UID:10030352-1773946800-1773950400@gridphilly.com
SUMMARY:The Future of Local Clean Energy: Community-funded\, Community-owned as part of Third Act PA Coffee Clatch
DESCRIPTION:Your Money\, Your Power: Finance Local Solar in PA Ready to see your investments make a tangible difference in your backyard? While big developers overlook smaller projects\, the Clean Energy Co-op is stepping in to bridge the gap. We’re harnessing the power of many small investors working together to bring renewable energy projects to fruition. We empower Pennsylvania residents to collectively fund solar installations for the organizations that anchor our communities—nonprofits\, co-ops\, and local community-beneficial businesses. Proven Success: 8 completed projects and counting. Big Momentum: We are currently funding our largest installation to date. Community First: 100% volunteer-run and member-owned. \nThis is event is sponsored Third Act. There will be some initial Third Act programming.
URL:https://gridphilly.com/event/the-future-of-local-clean-energy-community-funded-community-owned-as-part-of-third-act-pa-coffee-clatch/
LOCATION:Zoom\, Online Only
CATEGORIES:Clean Energy,Community Events,Event,family and kid friendly,Free,Outdoor Event,Solar
ATTACH;FMTTYPE=image/png:https://gridphilly.com/wp-content/uploads/2026/03/Directly-expand-local-renewable-energy-4.875-x-4.875-in-2.png
ORGANIZER;CN="The Clean Energy Co-op":MAILTO:cleanenergycoopsepa@gmail.com
END:VEVENT
BEGIN:VEVENT
DTSTART;TZID=America/New_York:20251119T173000
DTEND;TZID=America/New_York:20251119T200000
DTSTAMP:20260421T110145
CREATED:20251111T204133Z
LAST-MODIFIED:20251111T204133Z
UID:10024331-1763573400-1763582400@gridphilly.com
SUMMARY:Philadelphia Environmental Partnership Dinner
DESCRIPTION:The Pennsylvania Environmental Council (PEC) is proud to honor leaders in sustainability at this year’s Environmental Partnership Dinner. The ceremony\, held November 19 at the Loews Philadelphia Hotel\, will recognize those who have worked to improve southeastern Pennsylvania’s communities and steward its natural resources through innovation and partnership: \nDecarbonization Leadership Award – City of Philadelphia Office of Sustainability for clean-energy procurement\, energy efficiency upgrade financing\, sustainable government initiatives\nWatershed Restoration Leadership Award – Philadelphia Water Department for Flat Rock Dam and Manayunk Canal restoration\nWinsor Award for Lifetime Achievement – David Hess\, former DEP Secretary and publisher of PA Environment Digest
URL:https://gridphilly.com/event/philadelphia-environmental-partnership-dinner/
LOCATION:Loews Philadelphia Hotel\, 1200 Market Street\, Philadelphia\, PA\, 19107\, United States
CATEGORIES:Clean Energy,Watershed
ATTACH;FMTTYPE=image/png:https://gridphilly.com/wp-content/uploads/2025/11/Screen-Shot-2025-11-11-at-3.41.02-PM.png
ORGANIZER;CN="Pennsylvania Environmental Council":MAILTO:dmaiolo@pecpa.org
END:VEVENT
BEGIN:VEVENT
DTSTART;TZID=America/New_York:20250921T110000
DTEND;TZID=America/New_York:20250921T150000
DTSTAMP:20260421T110145
CREATED:20250822T205330Z
LAST-MODIFIED:20250822T205330Z
UID:10020582-1758452400-1758466800@gridphilly.com
SUMMARY:Sun Day
DESCRIPTION:Sun Day\, September 21\, 2025 is a national day of celebration and action on solar energy. Sun Day Philadelphia\, at Love Park from 11 am – 3 pm will be full of solar powered and sun inspired activities for all ages. Live music\, arts\, solar car races\, solar s’mores\, solar kits for teachers\, zero emission vehicle displays and educational and advocacy exhibits on home electrification and clean energy. The event is free and open to the public. Sun Day is cosponsored by the Philadelphia Solar Energy Association\, and Third Act Pennsylvania.
URL:https://gridphilly.com/event/sun-day/
LOCATION:Love Park\, Arch Street\, Philadelphia\, PA\, 19102\, United States
CATEGORIES:Activism,Clean Energy,Solar
ATTACH;FMTTYPE=image/jpeg:https://gridphilly.com/wp-content/uploads/2025/08/Sun-Day-invite-1-scaled.jpg
END:VEVENT
BEGIN:VEVENT
DTSTART;TZID=America/New_York:20241113T120000
DTEND;TZID=America/New_York:20241113T131500
DTSTAMP:20260421T110145
CREATED:20241108T191321Z
LAST-MODIFIED:20241108T191321Z
UID:10015600-1731499200-1731503700@gridphilly.com
SUMMARY:Electric School Bus Funding and Benefits webinar
DESCRIPTION:Join us to learn firsthand accounts of the benefits of transitioning your fleet to electric\, about available funding options\, and what it takes to electrify a depot from Pennsylvania districts that have electrified their buses. \nElectric school buses not only result in reduced greenhouse gas emissions and cleaner air but also save on maintenance and fuel costs\, can provide power back to the grid or buildings during emergencies\, and have been linked to improved academic outcomes. \nSpeakers include:\nJoshua Dziubek\, Energy Program Specialist at PA Department of Environmental Protection\nSydney Stern\, EPA Region 3 CSB Team Lead and Charlotte Leon\, Project Officer at EPA Region 3\nJames Whitesel\, Director of Facilities at Unionville Chadds Ford School District\nMark “J.J.” Carnes\, Business Manager at Steelton-Highspire School District\nClaire Alford\, Eastern Regional Manager at Highland Electric Fleets\nKevin Matthews\, Head of Electrification at First Student \nRegister here: https://bit.ly/3At2J0j\nAfter registering\, please share this event with your schools and any friends or colleagues you’d like to invite! \nThis event is brought to you by Community Advocates for Clean Energy\, Generation 180 and Sierra Club Pennsylvania Chapter’s Clean Communities Project.
URL:https://gridphilly.com/event/electric-school-bus-funding-and-benefits-webinar/
LOCATION:ZOOM
CATEGORIES:Clean Energy
ATTACH;FMTTYPE=image/jpeg:https://gridphilly.com/wp-content/uploads/2024/11/241113-ESBWebinar.jpg
ORGANIZER;CN="Community Advocates for Clean Energy of Greater Philadelphia":MAILTO:billzmail-env@yahoo.com
END:VEVENT
BEGIN:VEVENT
DTSTART;TZID=America/New_York:20241019T130000
DTEND;TZID=America/New_York:20241019T140000
DTSTAMP:20260421T110145
CREATED:20241015T183727Z
LAST-MODIFIED:20241015T183727Z
UID:10015082-1729342800-1729346400@gridphilly.com
SUMMARY:Solar Celebration at Weavers Way's Germantown Store
DESCRIPTION:Join Weavers Way Co-op and Clean Energy Co-op members as we celebrate expanding renewable energy with the solar installation at the Germantown store. Come talk to the Clean Energy Co-op and Solar States (solar installer for this project) to learn how you can either install solar on your property/institution or directly in­crease the amount of renewable energy in­stalled in Pennsylvania with the Clean Energy Co-op’s pooled investment strategy. Kids can run a shoebox sized solar car. There will be brief messages followed by a group picture at 1:30pm. \nStore location is: 328 W Chelten Ave\, Philadelphia\, PA 19144
URL:https://gridphilly.com/event/solar-celebration-at-weavers-ways-germantown-store/
LOCATION:Weavers Way Germantown\, 328 W Chelten Avenue\, Philadelphia\, P\, 19144\, United States
CATEGORIES:Clean Energy,Community Events,Free,Solar
ATTACH;FMTTYPE=image/png:https://gridphilly.com/wp-content/uploads/2024/10/Copy-of-Make-Solar-a-Reality.png
ORGANIZER;CN="The Clean Energy Co-op":MAILTO:cleanenergycoopsepa@gmail.com
END:VEVENT
BEGIN:VEVENT
DTSTART;TZID=America/New_York:20240605T180000
DTEND;TZID=America/New_York:20240605T190000
DTSTAMP:20260421T110145
CREATED:20240603T165734Z
LAST-MODIFIED:20240603T165734Z
UID:10013197-1717610400-1717614000@gridphilly.com
SUMMARY:Community Based Solar Solutions to Renewable Energy Webinar
DESCRIPTION:Solar energy is now more accessible and coming on line faster than ever before. Thanks to historic climate wins such as Biden’s Affordable Clean Energy Law\, more Pennsylvanians can access the benefits of a whole range of environmentally friendly upgrades. Through the Inflation Reduction Act you can now receive a 30% Federal Tax Credit for rooftop solar which is propelling this incredibly promising energy source ahead across the nation. However\, rooftop solar is an impractical option for many people\, including renters across Pennsylvania\, with renters accounting for nearly half of all households in Philadelphia. \nJoin Climate Action PA\, Philadelphia Solar Energy Association\, and VoteSolar (and more) to learn more about alternatives to rooftop solar\, so that all Pennsylvania residents can be a part of a sustainable solar future! Liz Robinson of PSEA will discuss these alternatives\, including community solar and community choice aggregation (CCA). Learn more about the Pennsylvania Reliable Energy Sustainability Standard (PRESS) legislation and the requirement for Pennsylvania to get 35% of its electricity from solar and other renewable energy sources. We will also hear from Elowyn Corby of VoteSolar Action Fund regarding organizing efforts to legalize community solar in Pennsylvania\, and implementation in surrounding states. An update will be provided on the Biden-Harris administration’s grant of 7 billion for the Solar for All campaign and what it means for low-income Pennsylvania residents! \nCosponsors: Conservation Voters of PA\, Vote Solar Action Fund\, Philadelphia Solar Energy Authority\, Climate Action Campaign\, Solarize Philly\, Sierra Club
URL:https://gridphilly.com/event/community-based-solar-solutions-to-renewable-energy-webinar/
CATEGORIES:Activism,Clean Energy,Community Events,Solar
ATTACH;FMTTYPE=image/png:https://gridphilly.com/wp-content/uploads/2024/05/Solar-Webinar-Graphic-3.png
END:VEVENT
END:VCALENDAR