BEGIN:VCALENDAR
VERSION:2.0
PRODID:-//Grid Magazine - ECPv6.15.20//NONSGML v1.0//EN
CALSCALE:GREGORIAN
METHOD:PUBLISH
X-ORIGINAL-URL:https://gridphilly.com
X-WR-CALDESC:Events for Grid Magazine
REFRESH-INTERVAL;VALUE=DURATION:PT1H
X-Robots-Tag:noindex
X-PUBLISHED-TTL:PT1H
BEGIN:VTIMEZONE
TZID:America/New_York
BEGIN:DAYLIGHT
TZOFFSETFROM:-0500
TZOFFSETTO:-0400
TZNAME:EDT
DTSTART:20250309T070000
END:DAYLIGHT
BEGIN:STANDARD
TZOFFSETFROM:-0400
TZOFFSETTO:-0500
TZNAME:EST
DTSTART:20251102T060000
END:STANDARD
BEGIN:DAYLIGHT
TZOFFSETFROM:-0500
TZOFFSETTO:-0400
TZNAME:EDT
DTSTART:20260308T070000
END:DAYLIGHT
BEGIN:STANDARD
TZOFFSETFROM:-0400
TZOFFSETTO:-0500
TZNAME:EST
DTSTART:20261101T060000
END:STANDARD
BEGIN:DAYLIGHT
TZOFFSETFROM:-0500
TZOFFSETTO:-0400
TZNAME:EDT
DTSTART:20270314T070000
END:DAYLIGHT
BEGIN:STANDARD
TZOFFSETFROM:-0400
TZOFFSETTO:-0500
TZNAME:EST
DTSTART:20271107T060000
END:STANDARD
END:VTIMEZONE
BEGIN:VEVENT
DTSTART;TZID=America/New_York:20260425T090000
DTEND;TZID=America/New_York:20260425T113000
DTSTAMP:20260419T191405
CREATED:20260415T140006Z
LAST-MODIFIED:20260415T140006Z
UID:10032240-1777107600-1777116600@gridphilly.com
SUMMARY:Birds & Belonging: A Walk with Philly Queer Birders
DESCRIPTION:Birds\, community\, and spring vibes abound. Join us as Natural Lands teams up with Philly Queer Birders for an inclusive\, all-levels bird walk at Hildacy Preserve. \nThis relaxed outing welcomes LGBTQIA+ folks and allies to enjoy spring migration\, learn about local birds\, and connect with community in a supportive outdoor space. \nNo birding experience required—just curiosity and a love of being outside. \nAbout our partners: Philly Queer Birders\, founded in March 2021\, is a monthly group that builds LGBTQIA+ community through birding while exploring Philadelphia’s parks and natural spaces\, plus surrounding areas. The group welcomes all skill levels\, emphasizes accessibility and inclusivity\, and centers queer experiences\, offering a fun\, supportive environment for anyone who appreciates birds. \nThe songbirds\, raptors\, waterfowl\, and shorebirds—about 300 recorded species—that rely on habitats under Natural Lands care are not just beautiful but also essential to the health of our planet. What’s more\, they are environmental indicators\, warning us of climate shifts and other ecosystem changes. \nLearn more about what Natural Lands is doing for bird conservation.
URL:https://gridphilly.com/event/birds-belonging-a-walk-with-philly-queer-birders/
LOCATION:Hildacy Preserve\, 1031 Palmers Mill Road\, Media\, Pennsylvania\, 19063
CATEGORIES:Birding,explore the natural world,general,health and wellness,Nature Walks,NextGen
ATTACH;FMTTYPE=image/jpeg:https://gridphilly.com/wp-content/uploads/2026/04/GWYN_DSC_9133-palm-warbler-gwynedd-10-22-20-bill-moses-D5k6nP.jpg
END:VEVENT
BEGIN:VEVENT
DTSTART;VALUE=DATE:20260512
DTEND;VALUE=DATE:20260513
DTSTAMP:20260419T191405
CREATED:20260211T202512Z
LAST-MODIFIED:20260211T202512Z
UID:10028914-1778544000-1778630399@gridphilly.com
SUMMARY:Riverbend Summer Camp Registration in Gladwyne
DESCRIPTION:Riverbend camps create an outdoor experience of fun & free play for campers of all ages! Hiking\, stream-stomping and bug-catching are a few of the key ingredients that have made Riverbend’s summer camp a sensation since 1982. Riverbend campers aren’t afraid to get a little dirty in our weekly program that runs from mid-June to Labor Day. Our qualified and enthusiastic educators (some who were campers themselves!) guide children in hands-on nature exploration and investigation\, games\, crafts\, hikes and more. Your child’s favorite summer memories await!
URL:https://gridphilly.com/event/riverbend-summer-camp-registration-in-gladwyne/2026-05-12/
LOCATION:Riverbend Environmental Education Center\, 1950 Spring Mill Road\, Gladwyne\, PA\, 19035\, United States
CATEGORIES:Birding,Children,Nature Walks,Outdoor Event,River
ATTACH;FMTTYPE=image/png:https://gridphilly.com/wp-content/uploads/2026/02/Gladwyne-Camp-PNG.png
END:VEVENT
END:VCALENDAR