BEGIN:VCALENDAR
VERSION:2.0
PRODID:-//Grid Magazine - ECPv6.15.20//NONSGML v1.0//EN
CALSCALE:GREGORIAN
METHOD:PUBLISH
X-ORIGINAL-URL:https://gridphilly.com
X-WR-CALDESC:Events for Grid Magazine
REFRESH-INTERVAL;VALUE=DURATION:PT1H
X-Robots-Tag:noindex
X-PUBLISHED-TTL:PT1H
BEGIN:VTIMEZONE
TZID:America/New_York
BEGIN:DAYLIGHT
TZOFFSETFROM:-0500
TZOFFSETTO:-0400
TZNAME:EDT
DTSTART:20250309T070000
END:DAYLIGHT
BEGIN:STANDARD
TZOFFSETFROM:-0400
TZOFFSETTO:-0500
TZNAME:EST
DTSTART:20251102T060000
END:STANDARD
BEGIN:DAYLIGHT
TZOFFSETFROM:-0500
TZOFFSETTO:-0400
TZNAME:EDT
DTSTART:20260308T070000
END:DAYLIGHT
BEGIN:STANDARD
TZOFFSETFROM:-0400
TZOFFSETTO:-0500
TZNAME:EST
DTSTART:20261101T060000
END:STANDARD
BEGIN:DAYLIGHT
TZOFFSETFROM:-0500
TZOFFSETTO:-0400
TZNAME:EDT
DTSTART:20270314T070000
END:DAYLIGHT
BEGIN:STANDARD
TZOFFSETFROM:-0400
TZOFFSETTO:-0500
TZNAME:EST
DTSTART:20271107T060000
END:STANDARD
END:VTIMEZONE
BEGIN:VEVENT
DTSTART;TZID=America/New_York:20260423T160000
DTEND;TZID=America/New_York:20260423T180000
DTSTAMP:20260421T042058
CREATED:20260413T012809Z
LAST-MODIFIED:20260413T012809Z
UID:10032228-1776960000-1776967200@gridphilly.com
SUMMARY:Nature as Healer: A (Grief) Writing Workshop
DESCRIPTION:“The people cannot be healed until the land is healed. The land cannot be healed until the people are healed by the land.” – Martin Prechtel\, author  \nNature can be a great healer for the heartaches we all experience along our journey. Join Naila Francis\, founder of This Hallowed Wilderness\, for a writing workshop to explore the restorative power of nature (right around Earth Day). \nTogether\, we will walk through the shady woods and sunny meadows of Hildacy Preserve\, listening to our inner voices\, on this inspiring nature immersion that also invites us into reciprocal relationship with the land and wildlife. \nBring a notebook and a writing instrument for this workshop. (We will also have some available.) \nOur stroll through the woods will be silent\, followed by some meditative time beside the flowing Crum Creek\, and quiet reflection. \nYou will be invited to share whatever you wish in a “sacred circle\,” but this is not required. The intent of this event is to bring people together\, whatever their losses and struggles\, and to connect with others and the natural world at their own comfort level. \nAbout our instructor: Naila is a grief coach and death midwife who companions people on their grief journey through multiple spaces and practices\, including meditations in nature and the written word.  
URL:https://gridphilly.com/event/nature-as-healer-a-grief-writing-workshop/
LOCATION:Hildacy Preserve\, 1031 Palmers Mill Road\, Media\, Pennsylvania\, 19063
CATEGORIES:arts & entertainment,explore the natural world,general,health and wellness,member perks,Nature Walks
ATTACH;FMTTYPE=image/jpeg:https://gridphilly.com/wp-content/uploads/2026/04/10-Hildacy_Ariel-Fierro-5-25-19-20190525_185211-flGP3h.jpg
END:VEVENT
BEGIN:VEVENT
DTSTART;TZID=America/New_York:20260423T200000
DTEND;TZID=America/New_York:20260423T201500
DTSTAMP:20260421T042058
CREATED:20260329T214727Z
LAST-MODIFIED:20260329T214727Z
UID:10030514-1776974400-1776975300@gridphilly.com
SUMMARY:The Intelligent Design of Jenny Chow at The Stagecrafters Theater of Chestnut Hill
DESCRIPTION:IMAGINATIVE TECHNO-COMEDY OPENING AT THE STAGECRAFTERS \nThe Intelligent Design of Jenny Chow is a hilarious and heartfelt “techno-comedy\,” that tells the story of Jennifer Marcus\, an agoraphobic computer genius\, who goes searching for her biological mother in China. Along the way she is aided by a Mormon missionary\, a pizza delivery driver\, and the outstanding robot she built called Jenny Chow. \nThe play\, authored by Rolin Jones\, won the 2006 Obie Award for Playwriting. Mr. Jones was also a finalist for the 2016 Pulitzer Prize for Drama for this play. For the last four years\, Mr. Jones has been writer-producer for Showtime’s award-winning series Weeds. \n“Bright and engaging\, boldly imagined Mr. Jones unfolds his tale of pioneering science fueled by post-adolescent angst with pleasing agility.”\nThe New York Times \n“Fantastical and funny…”\nVariety \nThe Stagecrafters 8130 Germantown Ave.\nPerformance dates: April 10-April 26\nThu\, Fri\, Sat @8\, Sun @2\nTickets $26.00 online\, $30.00 at door\nDiscounts for Seniors\, Students\, Industry available\nMore info: https://thestagecrafters.org/ or call 215 247 9913
URL:https://gridphilly.com/event/the-intelligent-design-of-jenny-chow-at-the-stagecrafters-theater-of-chestnut-hill/2026-04-23/
LOCATION:The Stagecrafters Theater\, 8130 Germantown Ave\, Philadelphia\, P\, 19118\, United States
CATEGORIES:arts & entertainment,Arts & Performance,Event,Free Community Events
ATTACH;FMTTYPE=image/jpeg:https://gridphilly.com/wp-content/uploads/2026/03/4961-scaled.jpg
ORGANIZER;CN="The Stagecrafters Theater":MAILTO:jtoczek@thestagecrafters.org
END:VEVENT
BEGIN:VEVENT
DTSTART;TZID=America/New_York:20260425T150000
DTEND;TZID=America/New_York:20260425T170000
DTSTAMP:20260421T042058
CREATED:20260403T020250Z
LAST-MODIFIED:20260403T020250Z
UID:10030629-1777129200-1777136400@gridphilly.com
SUMMARY:An Adoptee's Artistic Journey- Opening Reception
DESCRIPTION:Join us for the opening reception of An Adoptees Artistic Journey with wine and hors d’eouvres at the Kiosk Gallery\nFeaturing: Emma Sarr\nShow Dates: April 17\, 2026 – May 23\, 2026\nReception: April 25\, 3pm – 5pm\nKiosk Gallery @ Utility Works\n32 E. Baltimore Ave\, Lansdowne\, PA 19050\nGallery Hours: Wednesday – Saturday\, noon – 6pm\nThis exhibit displays Emma Sarr’s first step of her artistic journey. In this project\, Emma deeply considered her past and how her adoption has impacted her. Depictions of discovery\, awe\, Chinese American culture\, and self-understanding are displayed throughout the artwork. The core feelings and phases of this work include self-discovery\, imagination\, world-building\, and self-understanding. These works ask the viewer to admire\, imagine\, and explore what their own personal self-growth and identity journey has looked like. \nAbout the Gallery\nThis exhibition is organized by the Lansdowne Art Committee\, a volunteer group of The Lansdowne Economic Development Corporation. The mission of the Lansdowne Arts Committee is to create\, foster\, and promote Lansdowne’s identity as a vibrant and inspiring artistic community. The Lansdowne Art Committee is dedicated to nurturing creative expression\, enhancing community engagement\, stimulating economic growth\, preserving and celebrating Lansdowne’s diversity\, and cultivating arts education and access.\nThe Kiosk Gallery is located in the front Lobby of Utility Works\, a creative co-working space in Lansdowne PA*. Originally home to Delaware County Electric and built in the early 20th century\, Utility Works* has been transformed into a creative co-working building that houses 23 art studios\, a ceramics studio as well as a Maker Space.\nParking: There is a municipal lot behind Dunkin’ Donuts that is available to the public\, as well as additional street parking along Baltimore Ave and Highland Ave.\nGallery Accessibility\nInclusive Design: Our first floor is designed to be inclusive and ensure accessibility for all.\nApproachable Entrance: Our front door on Baltimore Ave. (look for the gold doors) is an accessible entrance. Please ask a member of staff if you need both doors open to gain entry.\nAccessible Restroom: We offer an accessible ADA-approved gender-neutral bathroom for the convenience of all visitors.\nWide Walkways: Our walkways are wide enough to accommodate wheelchair users\, ensuring smooth and easy navigation.
URL:https://gridphilly.com/event/an-adoptees-artistic-journey-opening-reception/
LOCATION:Utility Works MakerSpace\, 18 North Lansdowne Avenue\, Lansdowne\, PA\, 19050\, United States
CATEGORIES:Art Exhibitions,Arts & Culture,arts & entertainment,Community Events,Event
ATTACH;FMTTYPE=image/jpeg:https://gridphilly.com/wp-content/uploads/2026/03/image.jpg
ORGANIZER;CN="Lansdowne Economic Development Corporation":MAILTO:Clare@LansdownesFuture.org
END:VEVENT
BEGIN:VEVENT
DTSTART;TZID=America/New_York:20260425T200000
DTEND;TZID=America/New_York:20260425T201500
DTSTAMP:20260421T042058
CREATED:20260329T214727Z
LAST-MODIFIED:20260329T214727Z
UID:10030516-1777147200-1777148100@gridphilly.com
SUMMARY:The Intelligent Design of Jenny Chow at The Stagecrafters Theater of Chestnut Hill
DESCRIPTION:IMAGINATIVE TECHNO-COMEDY OPENING AT THE STAGECRAFTERS \nThe Intelligent Design of Jenny Chow is a hilarious and heartfelt “techno-comedy\,” that tells the story of Jennifer Marcus\, an agoraphobic computer genius\, who goes searching for her biological mother in China. Along the way she is aided by a Mormon missionary\, a pizza delivery driver\, and the outstanding robot she built called Jenny Chow. \nThe play\, authored by Rolin Jones\, won the 2006 Obie Award for Playwriting. Mr. Jones was also a finalist for the 2016 Pulitzer Prize for Drama for this play. For the last four years\, Mr. Jones has been writer-producer for Showtime’s award-winning series Weeds. \n“Bright and engaging\, boldly imagined Mr. Jones unfolds his tale of pioneering science fueled by post-adolescent angst with pleasing agility.”\nThe New York Times \n“Fantastical and funny…”\nVariety \nThe Stagecrafters 8130 Germantown Ave.\nPerformance dates: April 10-April 26\nThu\, Fri\, Sat @8\, Sun @2\nTickets $26.00 online\, $30.00 at door\nDiscounts for Seniors\, Students\, Industry available\nMore info: https://thestagecrafters.org/ or call 215 247 9913
URL:https://gridphilly.com/event/the-intelligent-design-of-jenny-chow-at-the-stagecrafters-theater-of-chestnut-hill/2026-04-25/
LOCATION:The Stagecrafters Theater\, 8130 Germantown Ave\, Philadelphia\, P\, 19118\, United States
CATEGORIES:arts & entertainment,Arts & Performance,Event,Free Community Events
ATTACH;FMTTYPE=image/jpeg:https://gridphilly.com/wp-content/uploads/2026/03/4961-scaled.jpg
ORGANIZER;CN="The Stagecrafters Theater":MAILTO:jtoczek@thestagecrafters.org
END:VEVENT
BEGIN:VEVENT
DTSTART;TZID=America/New_York:20260501T180000
DTEND;TZID=America/New_York:20260501T210000
DTSTAMP:20260421T042058
CREATED:20260409T181903Z
LAST-MODIFIED:20260409T181903Z
UID:10031827-1777658400-1777669200@gridphilly.com
SUMMARY:May 1st First Friday at NoName Gallery
DESCRIPTION:8127 Germantown Ave\, Philadelphia\, PA\nMay 1st | 6–9PM\nFree parking after 6PM \nThis First Friday\, we’re bringing together two distinct but connected bodies of work—photography by Allan Ali and a focused presentation of abstract works by EZV.\nAllan Ali’s black-and-white photographs reflect on life as a series of paths—some shared\, others walked alone. Many of these images were created in moments of solitude\, where observation becomes sharper and the world feels both expansive and deeply personal. Rooted in memory and influenced by his family’s creative legacy\, his work carries a quiet sense of connection across time.\nIn a separate gallery space\, EZV’s abstract works explore the space between what we see and what we feel. Drawing from their environment\, the work layers form\, texture\, and metaphor to translate lived experience into something more internal—where memory\, identity\, and emotion intersect.\nTogether\, the exhibition moves between observation and interpretation—offering two ways of seeing the world\, side by side. \nOriginal Art for Real People \nCome through!
URL:https://gridphilly.com/event/may-1st-first-friday-at-noname-gallery/
LOCATION:NoName Gallery\, 8127 Germantown Ave\, Philadelphia\, PA\, Philadelphia\, 19118\, United States
CATEGORIES:Art Exhibitions,Arts & Culture,arts & entertainment
ATTACH;FMTTYPE=image/png:https://gridphilly.com/wp-content/uploads/2026/04/Orange-Yellow-Bold-Music-Concert-Instagram-Post-1.png
ORGANIZER;CN="NoName Gallery":MAILTO:nonamegalleryphilly@gmail.com
END:VEVENT
BEGIN:VEVENT
DTSTART;TZID=America/New_York:20260606T150000
DTEND;TZID=America/New_York:20260606T190000
DTSTAMP:20260421T042058
CREATED:20260418T021104Z
LAST-MODIFIED:20260418T021104Z
UID:10032248-1780758000-1780772400@gridphilly.com
SUMMARY:Jazz on the Green at Fisher Park
DESCRIPTION:Kick off the summer with four amazing live bands! Jazz on the Green will bring live music to the Olney section of Philadelphia on Saturday\, June 6. This multi-generational showcase will present four distinguished groups of musicians including the venerable Professor Randy J. Gibson & the Double Portion Ensemble\, Composer & Pianist Sumi Tonooka\, Roy Suarez Quintet and a performer to be announced. The event will be held from 3 pm – 7 pm.\nIn case of inclement weather forecast\, the event will be moved indoors at Gibson School of Music at 5425 North 5th Street.
URL:https://gridphilly.com/event/jazz-on-the-green-at-fisher-park-3/
LOCATION:Fisher Park\, 571 West Spencer Street\, Philadelphia\, PA\, 19120\, United States
CATEGORIES:Arts & Culture,arts & entertainment,Arts & Performance,Community Events,Free Community Events
ATTACH;FMTTYPE=image/jpeg:https://gridphilly.com/wp-content/uploads/2026/04/Jazz-Green-website-image-2026.jpg
END:VEVENT
BEGIN:VEVENT
DTSTART;TZID=America/New_York:20260823T120000
DTEND;TZID=America/New_York:20260823T200000
DTSTAMP:20260421T042058
CREATED:20260407T190506Z
LAST-MODIFIED:20260407T190506Z
UID:10031149-1787486400-1787515200@gridphilly.com
SUMMARY:Ukrainian Folk Festival 2026
DESCRIPTION:UKRAINIAN FOLK FESTIVAL & SUMMER CONCERT 2026\nCelebrate the enduring\, vibrant culture of a people that fights for freedom!\nCelebrate America’s 250th Birthday \nHorsham\, PA – Sunday\, August 23; 12:00 – 8:00 PM. The Ukrainian Folk Festival & Summer Concert 2026 will be held at the Ukrainian American Sport Center (www.tryzub.org)\, County Line and Lower State Roads\, Horsham\, PA. \nExciting\, spectacular\, dazzling\, breathtaking\, exhilarating\, spirited\, soulful\, enchanting\, captivating\, and intriguing – modest words which describe but by no means capture the essence of Ukrainian folk art\, music\, song and dance. From the rich color and deep symbolism of the delicate “pysanka” (Ukrainian Easter Egg) to the thunderous\, power\, rhythm and strength of “HOPAK” – the world’s most exciting ethnic dance\, and every brilliant “Kolomiyka” (polka) and soulful folk song in between\, experience the UKRAINIAN FOLK FESTIVAL 2026\, celebrating the 35th anniversary of our ancestral homeland’s independence. Enjoy an outdoor summer stage concert and show (1:30 to 4:30 PM)\, live orchestra music (4:30 – 8:00 PM)\, traditional Ukrainian foods and baked goods\, BBQ pit\, standard picnic fare\, vendors grove\, arts and crafts displays and bazaar\, cool adult and soft refreshments\, Live exhibitors of Ukrainian history and Ukrainian hospitality.\n“A CELEBRATION OF LIBERTY AND UNITY”\nA Resplendent Outdoor Summer Concert (1:30 to 4:30 pm) Marking Ukraine’s Independence\, the Unity of her People\, and their Gallant Twilight Struggle for Freedom\, Prosperity and Dignity\nThe artists (dance troupes\, musicians\, singers and ensembles that have performed in previous years) have created a dynamic and integrated collaborative program. \nFEATURED PERFORMERS\nHROMOVYTSIA Ukrainian Dance Ensemble\nVOLOSHKY Ukrainian Dance Ensemble\nSPIRIT OF THE DANCE Ukrainian Dance Ensemble\nSinger-Songwriter SHANIS (the Ukrainian Voice of Disney’s Elsa in Frozen\nViolinist INNESA Tymochko Dekajlo\nVOX ETHNIKA BAND\nLive Exhibitors of Ukrainian History \nLive Orchestra-Band Dance music – Ukrainian\, traditional\, rock and modern – by VOX ETHNIKA BAND will follow the stage concert and show (4:30 – 8:00 PM). \nAdmission (Tickets at Gate Only! Open to General Public!): $20 ($2 of each paid admission donated to Humanitarian Relief of Victims of War in Ukraine); children < 15 Free; FREE PARKING – some offsite (details on website). Info: info@tryzub.org\, or www.tryzub.org.
URL:https://gridphilly.com/event/ukrainian-folk-festival-2026/
LOCATION:Ukrainian American Sport Center\, 1 Lower State Road\, North Wales\, P\, 19454\, United States
CATEGORIES:Art,Arts & Culture,arts & entertainment,Arts & Performance,Community Events,Concert,Event,Festival,Food,Food & Drink,General Events,Outdoor Event,Public Events
ATTACH;FMTTYPE=image/jpeg:https://gridphilly.com/wp-content/uploads/2026/04/2025-Voloshky-Split-Jump-cropped.jpg
ORGANIZER;CN="Ukrainian American Sport Center":MAILTO:info@tryzub,org
END:VEVENT
END:VCALENDAR